Workbook
Name サービス業: #REF!
Name サービス業: #REF!
Name その他物品: #REF!
Name その他物品: #REF!
Name 衣料・繊維: #REF!
Name 衣料・繊維: #REF!
Name 医療衛生: #REF!
Name 医療衛生: #REF!
Name 印刷製本: #REF!
Name 印刷製本: #REF!
Name 機械器具: #REF!
Name 機械器具: #REF!
Name 資材: #REF!
Name 資材: #REF!
Name 事務機器: #REF!
Name 事務機器: #REF!
Name 消防保安・標識類: #REF!
Name 消防保安・標識類: #REF!
Name 精密機械: #REF!
Name 精密機械: #REF!
Name 賃貸借: #REF!
Name 賃貸借: #REF!
Name 電気機械機器: #REF!
Name 電気機械機器: #REF!
Name 日用品: #REF!
Name 日用品: #REF!
Name 燃料: #REF!
Name 燃料: #REF!
Name 役務提供: #REF!
Name 役務提供: #REF!
Name 輸送機器: #REF!
Name 輸送機器: #REF!

Sheet 入力シート
A1: 【入力シート】
A2: 令和９・１０年度 名取市競争入札参加資格審査申請入力シート 【 工 事 用 】
A5: ※「令和９・１０年度 名取市競争入札参加資格審査申請要領」を熟読のうえ、本シートの必要箇所への入力をお願いします。 入力された内容は、別シート「業態カード」に反映されます。提出前に入力の内容が間違いないか等確認してください。
A8: １ 基本情報入力欄
A9: １ 申請年月日（令和８年１１月２日以降の日付で、本シート作成日を入力してください。）
A10: 申請年月日 | F10: 令和 | K10: 年 | O10: 月 | S10: 日
A12: ２ 作成担当者情報（本申請の担当者様の情報を入力してください。入力内容に不明な点があった場合は、こちらへ連絡いたします。
A13: 会 社 名 | F13: 注意事項 | I13: 作成されている方の会社名を入力してください。
F15: 入 力 欄
A17: 部 署 名 | F17: 注意事項 | I17: 部署等がない方は「なし」と入力してください。
F19: 入 力 欄
A21: 氏 名 | F21: 注意事項 | I21: 姓と名の間は１文字スペースを空けて入力してください。
F23: 入 力 欄
A25: 氏 名 （フリガナ） | F25: 注意事項 | I25: 姓と名の間は１文字スペースを空けて入力してください。
F27: 入 力 欄
A29: メールアドレス | F29: 注意事項 | I29: 本申請の入力内容等に不明な内容があった場合等に使用させていただきます。
F31: 入 力 欄
A33: 電話番号 | F33: 注意事項 | I33: 日中繋がる番号であれば、携帯電話の番号でも構いません。
F35: 入 力 欄
A37: ＦＡＸ番号 | F37: 注意事項 | I37: ＦＡＸ番号がない場合は、「なし」と入力してください。
F39: 入 力 欄
A42: ２ 会社基本情報
A43: １ 本社・本店情報
A44: 申請区分 | F44: 注意事項 | I44: 名取市で初めて登録する場合は「新規」、過去に登録したことがあれば「更新」と入力してください。 「更新」の場合、登録時の承認番号を入力をしてください。不明な場合は「不明」と入力してください。
F46: 入 力 欄 | I46: 新規or更新 | Y46: 承認番号
A48: 名 称 | F48: 注意事項 | I48: 会社組織の種別（株式会社 等）は略さずに入力してください。 会社組織の種別と会社名の間は、スペースを空けないでください。
F50: 入 力 欄
A52: 名 称 （フリガナ） | F52: 注意事項 | I52: 会社組織の種別（カブシキガイシャ 等）は入力しないでください。
F54: 入 力 欄
A56: 郵便番号 | F56: 注意事項 | I56: 郵便区番号（３桁）、町域番号（４桁）をすべて入力してください。
F58: 入 力 欄 | N58: －
A60: 住 所 （都道府県名） | F60: 注意事項 | I60: ドロップダウンリストから都道府県を選択してください。
F62: 入 力 欄
A64: 住 所 （市区町村以降） | F64: 注意事項 | I64: 都道府県名以降について入力してください。肩書（建物名等）を入力する場合は、住所の間に１文字スペースを空けてください。
F66: 入 力 欄
A68: 代表者肩書 | F68: 注意事項 | I68: 法人の場合は、会社組織等の代表者の職名を入力、個人の場合は任意の肩書を入力してください。
F70: 入 力 欄
A72: 代表者名 | F72: 注意事項 | I72: 姓と名の間は１文字スペースを空けて入力してください。
F74: 入 力 欄
A76: 代表者名 （フリガナ） | F76: 注意事項 | I76: 姓と名の間は１文字スペースを空けて入力してください。
...

Sheet 入力例
A1: 【入力例】
A2: 令和９・１０年度 名取市競争入札参加資格審査申請入力シート 【 工 事 用 】
A5: ※「令和９・１０年度 名取市競争入札参加資格審査申請要領」を熟読のうえ、本シートの必要箇所への入力をお願いします。 入力された内容は、別シート「業態カード」に反映されます。提出前に入力の内容が間違いないか等確認してください。
A8: １ 基本情報入力欄
A9: １ 申請年月日（令和８年１１月２日以降の日付で、本シート作成日を入力してください。）
A10: 申請年月日 | F10: 令和 | I10: 8 | K10: 年 | M10: 11 | O10: 月 | Q10: 2 | S10: 日
A12: ２ 作成担当者情報（本申請の担当者様の情報を入力してください。入力内容に不明な点があった場合は、こちらへ連絡いたします。
A13: 会 社 名 | F13: 注意事項 | I13: 作成されている方の会社名を入力してください。
F15: 入 力 欄 | I15: 株式会社なとりし
A17: 部 署 名 | F17: 注意事項 | I17: 部署等がない方は「なし」と入力してください。
F19: 入 力 欄 | I19: なし
A21: 氏 名 | F21: 注意事項 | I21: 姓と名の間は１文字スペースを空けて入力してください。
F23: 入 力 欄 | I23: 名取 次郎
A25: 氏 名 （フリガナ） | F25: 注意事項 | I25: 姓と名の間は１文字スペースを空けて入力してください。
F27: 入 力 欄 | I27: ナトリ ジロウ
A29: メールアドレス | F29: 注意事項 | I29: 本申請の入力内容等に不明な内容があった場合等に使用させていただきます。
F31: 入 力 欄 | I31: natori@miyagi.co.jp
A33: 電話番号 | F33: 注意事項 | I33: 日中繋がる番号であれば、携帯電話の番号でも構いません。
F35: 入 力 欄 | I35: 022-384-2111
A37: ＦＡＸ番号 | F37: 注意事項 | I37: ＦＡＸ番号がない場合は、「なし」と入力してください。
F39: 入 力 欄 | I39: 022-384-9680
A42: ２ 会社基本情報
A43: １ 本社・本店情報
A44: 申請区分 | F44: 注意事項 | I44: 名取市で初めて登録する場合は「新規」、過去に登録したことがあれば「更新」と入力してください。 「更新」の場合、登録時の承認番号を入力をしてください。不明な場合は「不明」と入力してください。
F46: 入 力 欄 | I46: 新規or更新 | S46: 新規 | Y46: 承認番号
A48: 名 称 | F48: 注意事項 | I48: 会社組織の種別（株式会社 等）は略さずに入力してください。 会社組織の種別と会社名の間は、スペースを空けないでください。
F50: 入 力 欄 | I50: 株式会社なとりし
A52: 名 称 （フリガナ） | F52: 注意事項 | I52: 会社組織の種別（カブシキガイシャ 等）は入力しないでください。
F54: 入 力 欄 | I54: ナトリシ
A56: 郵便番号 | F56: 注意事項 | I56: 郵便区番号（３桁）、町域番号（４桁）をすべて入力してください。
F58: 入 力 欄 | I58: 981 | N58: － | P58: 1292
A60: 住 所 （都道府県名） | F60: 注意事項 | I60: ドロップダウンリストから都道府県を選択してください。
F62: 入 力 欄 | I62: 宮城県
A64: 住 所 （市区町村以降） | F64: 注意事項 | I64: 都道府県名以降について入力してください。肩書（建物名等）を入力する場合は、住所の間に１文字スペースを空けてください。
F66: 入 力 欄 | I66: 名取市増田字柳田８０
A68: 代表者肩書 | F68: 注意事項 | I68: 法人の場合は、会社組織等の代表者の職名を入力、個人の場合は任意の肩書を入力してください。
F70: 入 力 欄 | I70: 代表取締役
A72: 代表者名 | F72: 注意事項 | I72: 姓と名の間は１文字スペースを空けて入力してください。
F74: 入 力 欄 | I74: 宮城 太郎
A76: 代表者名 （フリガナ） | F76: 注意事項 | I76: 姓と名の間は１文字スペースを空けて入力してください。
...

Sheet 入力内容集計表
A1: 承認番号 | B1: 区分 | C1: 本店名称(ﾌﾘｶﾞﾅ) | D1: 本店名称 | E1: 本店郵便番号 | F1: 本店所在地 | G1: 本店電話番号 | H1: 本店FAX番号 | I1: 本店ｱﾄﾞﾚｽ | J1: 本店代表者肩書 | K1: 本店代表者名(ﾌﾘｶﾞﾅ) | L1: 本店代表者名 | M1: 受任機関名称 | N1: 受任機関郵便番号 | O1: 受任機関所在地 | P1: 受任機関電話番号 | Q1: 受任機関FAX番号 | R1: 受任機関ｱﾄﾞﾚｽ | S1: 受任機関代表者肩書 | T1: 受任機関代表者名(ﾌﾘｶﾞﾅ) | U1: 受任機関代表者名 | V1: 希望電話番号 | W1: 希望FAX番号 | X1: 営業年数 | Y1: 資本金 | Z1: 建退共 | AA1: 名取市居住 | AB1: 特別徴収 | AC1: 住所（特殊） | AD1: 経審基準日 | AE1: 許可１ 許可元 | AF1: 許可１ 許可区分 | AG1: 許可１ 許可番号 | AH1: 許可１ 期間開始 | AI1: 許可１ 期間終了 | AJ1: 許可２ 許可元 | AK1: 許可２ 許可区分 | AL1: 許可２ 許可番号 | AM1: 許可２ 期間開始 | AN1: 許可２ 期間終了 | AO1: 特定 土 | AP1: 特定 建 | AQ1: 特定 大 | AR1: 特定 左 | AS1: 特定 と | AT1: 特定 石 | AU1: 特定 屋 | AV1: 特定 電 | AW1: 特定 管 | AX1: 特定 タ | AY1: 特定 鋼 | AZ1: 特定 筋 | BA1: 特定 舗 | BB1: 特定 しゅ | BC1: 特定 板 | BD1: 特定 ガ | BE1: 特定 塗 | BF1: 特定 防 | BG1: 特定 内 | BH1: 特定 機 | BI1: 特定 絶 | BJ1: 特定 通 | BK1: 特定 園 | BL1: 特定 井 | BM1: 特定 具 | BN1: 特定 水 | BO1: 特定 消 | BP1: 特定 清 | BQ1: 特定 解 | BR1: 一般 土 | BS1: 一般 建 | BT1: 一般 大 | BU1: 一般 左 | BV1: 一般 と | BW1: 一般 石 | BX1: 一般 屋 | BY1: 一般 電 | BZ1: 一般 管 | CA1: 一般 タ | CB1: 一般 鋼 | CC1: 一般 筋 | CD1: 一般 舗 | CE1: 一般 しゅ | CF1: 一般 板 | CG1: 一般 ガ | CH1: 一般 塗 | CI1: 一般 防 | CJ1: 一般 内 | CK1: 一般 機 | CL1: 一般 絶 | CM1: 一般 通 | CN1: 一般 園 | CO1: 一般 井 | CP1: 一般 具 | CQ1: 一般 水 | CR1: 一般 消 | CS1: 一般 清 | CT1: 一般 解 | CU1: 工事高１ 種目番号 | CV1: 工事高１ 種目名称 | CW1: 工事高１ 全体 | CX1: 工事高１ 受任 | CY1: 工事高２ 種目番号 | CZ1: 工事高２ 種目名称 | DA1: 工事高２ 全体 | DB1: 工事高２ 受任 | DC1: 工事高３ 種目番号 | DD1: 工事高３ 種目名称 | DE1: 工事高３ 全体 | DF1: 工事高３ 受任 | DG1: 工事高４ 種目番号 | DH1: 工事高４ 種目名称 | DI1: 工事高４ 全体 | DJ1: 工事高４ 受任 | DK1: 工事高５ 種目番号 | DL1: 工事高５ 種目名称 | DM1: 工事高５ 全体 | DN1: 工事高５ 受任 | DO1: 工事高６ 種目番号 | DP1: 工事高６ 種目名称 | DQ1: 工事高６ 全体 | DR1: 工事高６ 受任 | DS1: 工事高７ 種目番号 | DT1: 工事高７ 種目名称 | DU1: 工事高７ 全体 | DV1: 工事高７ 受任 | DW1: 工事高８ 種目番号 | DX1: 工事高８ 種目名称 | DY1: 工事高８ 全体 | DZ1: 工事高８ 受任 | EA1: 工事高９ 種目番号 | EB1: 工事高９ 種目名称 | EC1: 工事高９ 全体 | ED1: 工事高９ 受任 | EE1: 工事高１０ 種目番号 | EF1: 工事高１０ 種目名称 | EG1: 工事高１０ 全体 | EH1: 工事高１０ 受任 | EI1: 工事高１１ 種目番号 | EJ1: 工事高１１ 種目名称 | EK1: 工事高１１ 全体 | EL1: 工事高１１ 受任 | EM1: 工事高１２ 種目番号 | EN1: 工事高１２ 種目名称 | EO1: 工事高１２ 全体 | EP1: 工事高１２ 受任 | EQ1: その他 全体 | ER1: その他 受任 | ES1: 合計 全体 | ET1: 合計 受任 | EU1: 申請１ 種目番号 | EV1: 申請１ 種目名称 | EW1: 申請１ 特or般 | EX1: 申請１ P点 | EY1: 申請１ 分野 | EZ1: 申請２ 種目番号 | FA1: 申請２ 種目名称 | FB1: 申請２ 特or般 | FC1: 申請２ P点 | FD1: 申請２ 分野 | FE1: 申請３ 種目番号 | FF1: 申請３ 種目名称 | FG1: 申請３ 特or般 | FH1: 申請３ P点 | FI1: 申請３ 分野 | FJ1: 申請４ 種目番号 | FK1: 申請４ 種目名称 | FL1: 申請４ 特or般 | FM1: 申請４ P点 | FN1: 申請４ 分野 | FO1: 申請５ 種目番号 | FP1: 申請５ 種目名称 | FQ1: 申請５ 特or般 | FR1: 申請５ P点 | FS1: 申請５ 分野 | FT1: 申請６ 種目番号 | FU1: 申請６ 種目名称 | FV1: 申請６ 特or般 | FW1: 申請６ P点 | FX1: 申請６ 分野 | FY1: 申請７ 種目番号 | FZ1: 申請７ 種目名称 | GA1: 申請７ 特or般 | GB1: 申請７ P点 | GC1: 申請７ 分野 | GD1: 申請８ 種目番号 | GE1: 申請８ 種目名称 | GF1: 申請８ 特or般 | GG1: 申請８ P点 | GH1: 申請８ 分野 | GI1: 申請９ 種目番号 | GJ1: 申請９ 種目名称 | GK1: 申請９ 特or般 | GL1: 申請９ P点 | GM1: 申請９ 分野 | GN1: 申請１０ 種目番号 | GO1: 申請１０ 種目名称 | GP1: 申請１０ 特or般 | GQ1: 申請１０ P点 | GR1: 申請１０ 分野 | GS1: 申請１１ 種目番号 | GT1: 申請１１ 種目名称 | GU1: 申請１１ 特or般 | GV1: 申請１１ P点 | GW1: 申請１１ 分野 | GX1: 申請１２ 種目番号 | GY1: 申請１２ 種目名称 | GZ1: 申請１２ 特or般 | HA1: 申請１２ P点 | HB1: 申請１２ 分野 | HC1: 技術 全体 | HD1: 技術 受任 | HE1: 事務 全体 | HF1: 事務 受任 | HG1: 合計 全体 | HH1: 合計 受任 | HI1: 建設１ 全体 | HJ1: 建設２ 全体 | HK1: 建設１ 受任 | HL1: 建設２ 受任 | HM1: 土木１ 全体 | HN1: 土木２ 全体 | HO1: 土木１ 受任 | HP1: 土木２ 受任 | HQ1: 建築１ 全体 | HR1: 建築２ 全体 | HS1: 建築１ 受任 | HT1: 建築２ 受任 | HU1: 電気１ 全体 | HV1: 電気２ 全体 | HW1: 電気１ 受任 | HX1: 電気２ 受任 | HY1: 管１ 全体 | HZ1: 管２ 全体 | IA1: 管１ 受任 | IB1: 管２ 受任 | IC1: 造園１ 全体 | ID1: 造園２ 全体 | IE1: 造園１ 受任 | IF1: 造園２ 受任 | IG1: 配技１ 全体 | IH1: 配技２ 全体 | II1: 配技１ 受任 | IJ1: 配技２ 受任 | IK1: 造技１ 全体 | IL1: 造技２ 全体 | IM1: 造技１ 受任 | IN1: 造技２ 受任 | IO1: 防技１ 全体 | IP1: 防技２ 全体 | IQ1: 防技１ 受任 | IR1: 防技２ 受任 | IS1: 建技１ 全体 | IT1: 建技２ 全体 | IU1: 建技１ 受任 | IV1: 建技２ 受任 | IW1: 建築士１ 全体 | IX1: 建築士２ 全体 | IY1: 建築士１ 受任 | IZ1: 建築士２ 受任 | JA1: 木造 全体 | JB1: 木造 受任 | JC1: 電気 全体 | JD1: 電気 受任 | JE1: 電主 全体 | JF1: 電主 受任 | JG1: 消防 全体 | JH1: 消防 受任 | JI1: 浄化 全体 | JJ1: 浄化 受任 | JK1: 技術 全体 | JL1: 技術 受任 | JM1: 測量 全体 | JN1: 測量 受任 | JO1: その他１ 資格名 | JP1: その他１ 全体 | JQ1: その他１ 受任 | JR1: その他２ 資格名 | JS1: その他２ 全体 | JT1: その他２ 受任 | JU1: 監理土 | JV1: 監理建 | JW1: 監理管 | JX1: 監理鋼 | JY1: 監理舗 | JZ1: 監理電 | KA1: 監理造 | KB1: 監理その他 | KC1: 官１ 名称 | KD1: 官１ 全体 | KE1: 官１ 受任 | KF1: 官２ 名称 | KG1: 官２ 全体 | KH1: 官２ 受任 | KI1: 官３ 名称 | KJ1: 官３ 全体 | KK1: 官３ 受任 | KL1: 官４ 名称 | KM1: 官４ 全体 | KN1: 官４ 受任 | KO1: 官他 全体 | KP1: 官他 受任 | KQ1: 合計 全体 | KR1: 合計 受任 | KS1: PR
A2: =入力シート!AI46 -> 0 | B2: =入力シート!S46 -> 0 | C2: =入力シート!I54 -> 0 | D2: =入力シート!I50 -> 0 | E2: =入力シート!I58&"-"&入力シート!P58 -> - | F2: =入力シート!I62&入力シート!I66 | G2: =入力シート!I82 -> 0 | H2: =入力シート!I86 -> 0 | I2: =入力シート!I90 -> 0 | J2: =入力シート!I70 -> 0 | K2: =入力シート!I78 -> 0 | L2: =入力シート!I74 -> 0 | M2: =入力シート!I99& 入力シート!AE99 | N2: =入力シート!I103&"-"&入力シート!P103 -> - | O2: =入力シート!I107&入力シート!I111 | P2: =入力シート!I127 -> 0 | Q2: =入力シート!I131 -> 0 | R2: =入力シート!I135 -> 0 | S2: =入力シート!I115 -> 0 | T2: =入力シート!I123 -> 0 | U2: =入力シート!I119 -> 0 | V2: =入力シート!I140 -> 0 | W2: =入力シート!I144 -> 0 | X2: =入力シート!I148 -> 0 | Y2: =入力シート!I152 -> 0 | Z2: =入力シート!I156 -> 0 | AA2: =入力シート!S160 -> 0 | AB2: =入力シート!AI160 -> 0 | AC2: =入力シート!I164 -> 0 | AD2: =入力シート!I170 -> 0 | AE2: =入力シート!L175 -> 0 | AF2: =入力シート!R175 -> （〇-〇） | AG2: =入力シート!X175 -> 第〇号 | AH2: =入力シート!AD175 -> 令和〇年〇月〇日 | AI2: =入力シート!AJ175 -> 令和〇年〇月〇日 | AJ2: =入力シート!L177 -> 0 | AK2: =入力シート!R177 -> （〇-〇） | AL2: =入力シート!X177 -> 第〇号 | AM2: =入力シート!AD177 -> 令和〇年〇月〇日 | AN2: =入力シート!AJ177 -> 令和〇年〇月〇日 | AO2: =入力シート!I182 -> - | AP2: =入力シート!J182 -> - | AQ2: =入力シート!K182 -> - | AR2: =入力シート!L182 -> - | AS2: =入力シート!M182 -> - | AT2: =入力シート!N182 -> - | AU2: =入力シート!O182 -> - | AV2: =入力シート!P182 -> - | ... BQ2: =入力シート!AK182 -> - | BR2: =入力シート!I184 -> - | BS2: =入力シート!J184 -> - | BT2: =入力シート!K184 -> - | BU2: =入力シート!L184 -> - | BV2: =入力シート!M184 -> - | BW2: =入力シート!N184 -> - | BX2: =入力シート!O184 -> - | BY2: =入力シート!P184 -> - | ... CT2: =入力シート!AK184 -> - | CU2: =入力シート!I191 -> 0 | CV2: =入力シート!L191 | CW2: =入力シート!U191 -> 0 | CX2: =入力シート!AE191 -> 0 | CY2: =入力シート!I193 -> 0 | CZ2: =入力シート!L193 | DA2: =入力シート!U193 -> 0 | DB2: =入力シート!AE193 -> 0 | DC2: =入力シート!I195 -> 0 | DD2: =入力シート!L195 | DE2: =入力シート!U195 -> 0 | DF2: =入力シート!AE195 -> 0 | DG2: =入力シート!I197 -> 0 | DH2: =入力シート!L197 | DI2: =入力シート!U197 -> 0 | DJ2: =入力シート!AE197 -> 0 | DK2: =入力シート!I199 -> 0 | DL2: =入力シート!L199 | DM2: =入力シート!U199 -> 0 | DN2: =入力シート!AE199 -> 0 | DO2: =入力シート!I201 -> 0 | DP2: =入力シート!L201 | DQ2: =入力シート!U201 -> 0 | DR2: =入力シート!AE201 -> 0 | DS2: =入力シート!I203 -> 0 | DT2: =入力シート!L203 | DU2: =入力シート!U203 -> 0 | DV2: =入力シート!AE203 -> 0 | DW2: =入力シート!I205 -> 0 | DX2: =入力シート!L205 | DY2: =入力シート!U205 -> 0 | DZ2: =入力シート!AE205 -> 0 | EA2: =入力シート!I207 -> 0 | EB2: =入力シート!L207 | EC2: =入力シート!U207 -> 0 | ED2: =入力シート!AE207 -> 0 | EE2: =入力シート!I209 -> 0 | EF2: =入力シート!L209 | EG2: =入力シート!U209 -> 0 | EH2: =入力シート!AE209 -> 0 | EI2: =入力シート!I211 -> 0 | EJ2: =入力シート!L211 | EK2: =入力シート!U211 -> 0 | EL2: =入力シート!AE211 -> 0 | EM2: =入力シート!I213 -> 0 | EN2: =入力シート!L213 | EO2: =入力シート!U213 -> 0 | EP2: =入力シート!AE213 -> 0 | EQ2: =入力シート!U215 -> 0 | ER2: =入力シート!AE215 -> 0 | ES2: =入力シート!U217 -> 0 | ET2: =入力シート!AE217 -> 0 | EU2: =入力シート!I224 -> 0 | EV2: =入力シート!L224 | EW2: =入力シート!U224 -> 0 | EX2: =入力シート!X224 -> 0 | EY2: =入力シート!AC224 -> 0 | EZ2: =入力シート!I226 -> 0 | FA2: =入力シート!L226 | FB2: =入力シート!U226 -> 0 | FC2: =入力シート!X226 -> 0 | FD2: =入力シート!AC226 -> 0 | FE2: =入力シート!I228 -> 0 | FF2: =入力シート!L228 | FG2: =入力シート!U228 -> 0 | FH2: =入力シート!X228 -> 0 | FI2: =入力シート!AC228 -> 0 | FJ2: =入力シート!I230 -> 0 | FK2: =入力シート!L230 | FL2: =入力シート!U230 -> 0 | FM2: =入力シート!X230 -> 0 | FN2: =入力シート!AC230 -> 0 | FO2: =入力シート!I232 -> 0 | FP2: =入力シート!L232 | FQ2: =入力シート!U232 -> 0 | FR2: =入力シート!X232 -> 0 | FS2: =入力シート!AC232 -> 0 | FT2: =入力シート!I234 -> 0 | FU2: =入力シート!L234 | FV2: =入力シート!U234 -> 0 | FW2: =入力シート!X234 -> 0 | FX2: =入力シート!AC234 -> 0 | FY2: =入力シート!I236 -> 0 | FZ2: =入力シート!L236 | GA2: =入力シート!U236 -> 0 | GB2: =入力シート!X236 -> 0 | GC2: =入力シート!AC236 -> 0 | GD2: =入力シート!I238 -> 0 | GE2: =入力シート!L238 | GF2: =入力シート!U238 -> 0 | GG2: =入力シート!X238 -> 0 | GH2: =入力シート!AC238 -> 0 | GI2: =入力シート!I240 -> 0 | GJ2: =入力シート!L240 | GK2: =入力シート!U240 -> 0 | GL2: =入力シート!X240 -> 0 | GM2: =入力シート!AC240 -> 0 | GN2: =入力シート!I242 -> 0 | GO2: =入力シート!L242 | GP2: =入力シート!U242 -> 0 | GQ2: =入力シート!X242 -> 0 | GR2: =入力シート!AC242 -> 0 | GS2: =入力シート!I244 -> 0 | GT2: =入力シート!L244 | GU2: =入力シート!U244 -> 0 | GV2: =入力シート!X244 -> 0 | GW2: =入力シート!AC244 -> 0 | GX2: =入力シート!I246 -> 0 | GY2: =入力シート!L246 | GZ2: =入力シート!U246 -> 0 | HA2: =入力シート!X246 -> 0 | HB2: =入力シート!AC246 -> 0 | HC2: =入力シート!U253 -> 0 | HD2: =入力シート!AE253 -> 0 | HE2: =入力シート!U255 -> 0 | HF2: =入力シート!AE255 -> 0 | HG2: =入力シート!U257 -> 0 | HH2: =入力シート!AE257 -> 0 | HI2: =入力シート!U266 -> 0 | HJ2: =入力シート!Z266 -> 0 | HK2: =入力シート!AE266 -> 0 | HL2: =入力シート!AJ266 -> 0 | HM2: =入力シート!U268 -> 0 | HN2: =入力シート!Z268 -> 0 | HO2: =入力シート!AE268 -> 0 | HP2: =入力シート!AJ268 -> 0 | HQ2: =入力シート!U270 -> 0 | HR2: =入力シート!Z270 -> 0 | HS2: =入力シート!AE270 -> 0 | HT2: =入力シート!AJ270 -> 0 | HU2: =入力シート!U272 -> 0 | HV2: =入力シート!Z272 -> 0 | HW2: =入力シート!AE272 -> 0 | HX2: =入力シート!AJ272 -> 0 | HY2: =入力シート!U274 -> 0 | HZ2: =入力シート!Z274 -> 0 | IA2: =入力シート!AE274 -> 0 | IB2: =入力シート!AJ274 -> 0 | IC2: =入力シート!U276 -> 0 | ID2: =入力シート!Z276 -> 0 | IE2: =入力シート!AE276 -> 0 | IF2: =入力シート!AJ276 -> 0 | IG2: =入力シート!U278 -> 0 | IH2: =入力シート!Z278 -> 0 | II2: =入力シート!AE278 -> 0 | IJ2: =入力シート!AJ278 -> 0 | IK2: =入力シート!U280 -> 0 | IL2: =入力シート!Z280 -> 0 | IM2: =入力シート!AE280 -> 0 | IN2: =入力シート!AJ280 -> 0 | IO2: =入力シート!U282 -> 0 | IP2: =入力シート!Z282 -> 0 | IQ2: =入力シート!AE282 -> 0 | IR2: =入力シート!AJ282 -> 0 | IS2: =入力シート!U284 -> 0 | IT2: =入力シート!Z284 -> 0 | IU2: =入力シート!AE284 -> 0 | IV2: =入力シート!AJ284 -> 0 | IW2: =入力シート!U286 -> 0 | IX2: =入力シート!Z286 -> 0 | IY2: =入力シート!AE286 -> 0 | IZ2: =入力シート!AJ286 -> 0 | JA2: =入力シート!U288 -> 0 | JB2: =入力シート!AE288 -> 0 | JC2: =入力シート!U290 -> 0 | JD2: =入力シート!AE290 -> 0 | JE2: =入力シート!U292 -> 0 | JF2: =入力シート!AE292 -> 0 | JG2: =入力シート!U294 -> 0 | JH2: =入力シート!AE294 -> 0 | JI2: =入力シート!U296 -> 0 | JJ2: =入力シート!AE296 -> 0 | JK2: =入力シート!U298 -> 0 | JL2: =入力シート!AE298 -> 0 | JM2: =入力シート!U300 -> 0 | JN2: =入力シート!AE300 -> 0 | JO2: =入力シート!K302 -> 0 | JP2: =入力シート!U302 -> 0 | JQ2: =入力シート!AE302 -> 0 | JR2: =入力シート!K304 -> 0 | JS2: =入力シート!U304 -> 0 | JT2: =入力シート!AE304 -> 0 | JU2: =入力シート!I311 -> 0 | JV2: =入力シート!M311 -> 0 | JW2: =入力シート!Q311 -> 0 | JX2: =入力シート!U311 -> 0 | JY2: =入力シート!Y311 -> 0 | JZ2: =入力シート!AC311 -> 0 | KA2: =入力シート!AG311 -> 0 | KB2: =入力シート!AK311 -> 0 | KC2: =入力シート!I318 -> 0 | KD2: =入力シート!U318 -> 0 | KE2: =入力シート!AE318 -> 0 | KF2: =入力シート!I320 -> 0 | KG2: =入力シート!U320 -> 0 | KH2: =入力シート!AE320 -> 0 | KI2: =入力シート!I322 -> 0 | KJ2: =入力シート!U322 -> 0 | KK2: =入力シート!AE322 -> 0 | KL2: =入力シート!I324 -> 0 | KM2: =入力シート!U324 -> 0 | KN2: =入力シート!AE324 -> 0 | KO2: =入力シート!U326 -> 0 | KP2: =入力シート!AE326 -> 0 | KQ2: =入力シート!U328 -> 0 | KR2: =入力シート!AE328 -> 0 | KS2: =入力シート!F333 -> 0
O58: =入力内容集計表!AB -> #NAME?

Sheet 申請種目表
A1: 番号 | B1: 申 請 種 目 | E1: 必要な 建設業許可
A2: 1 | B2: 土木一式工事 | E2: 土
A3: 2 | B3: 建築一式工事 | E3: 建
A4: 3 | B4: 大工工事 | E4: 大
A5: 4 | B5: 左官工事 | E5: 左
A6: 5 | B6: とび・土工コンクリート工事 | E6: と
A7: 6 | B7: 石工事 | E7: 石
A8: 7 | B8: 屋根工事 | E8: 屋
A9: 8 | B9: 電気工事 | E9: 電
A10: 9 | B10: 管工事 | E10: 管
A11: 10 | B11: タイル・れんがブロック工事 | E11: タ
A12: 11 | B12: 鋼構造物工事 | E12: 鋼
A13: 12 | B13: 鉄筋工事 | E13: 筋
... A30: 29 | B30: 解体工事 | E30: 解

Sheet 業態カード
B2: ① 入札参加登録状況 | T2: 名取市独自様式 １－１ | AR2: （市記載欄） 承認№ | AT2: =入力内容集計表!AC2 -> 0
T3: 令和９・１０年度 工 事 業態カード
D5: =入力内容集計表!B2 -> 0 | H5: 承認番号 | N5: =入力内容集計表!A2 -> 0 | S5: ） | AZ5: 1
B6: ② 申請者（本店) | D6: フリガナ | H6: =入力内容集計表!C2 -> 0 | AJ6: ⑥ 年間平均完成工事高の状況 （直前２又は３か年平均完成工事高） ※単位:千円
D8: 商号又は 名 称 | H8: =入力内容集計表!D2 -> 0 | AJ8: 種目 番号 | AK8: 工事の種目 | AP8: 金 額 Ａ （全社分・経審の数値） | AU8: 金 額 Ｂ （うち受任機関分）
AJ10: =入力内容集計表!CU2 -> 0 | AK10: =入力内容集計表!CV2 | AP10: =入力内容集計表!CW2 -> 0 | AT10: 千円 | AU10: =入力内容集計表!CX2 -> 0 | AY10: 千円
D11: 本 店 所在地等 | H11: 〒 | J11: =入力内容集計表!E2 -> - | V11: ﾒｰﾙ | X11: =入力内容集計表!I2 -> 0 | AJ11: =入力内容集計表!CY2 -> 0 | AK11: =入力内容集計表!CZ2 | AP11: =入力内容集計表!DA2 -> 0 | AT11: 千円 | AU11: =入力内容集計表!DB2 -> 0 | AY11: 千円
H12: =入力内容集計表!F2 | AJ12: =入力内容集計表!DC2 -> 0 | AK12: =入力内容集計表!DD2 | AP12: =入力内容集計表!DE2 -> 0 | AT12: 千円 | AU12: =入力内容集計表!DF2 -> 0 | AY12: 千円
AJ13: =入力内容集計表!DG2 -> 0 | AK13: =入力内容集計表!DH2 | AP13: =入力内容集計表!DI2 -> 0 | AT13: 千円 | AU13: =入力内容集計表!DJ2 -> 0 | AY13: 千円
AJ14: =入力内容集計表!DK2 -> 0 | AK14: =入力内容集計表!DL2 | AP14: =入力内容集計表!DM2 -> 0 | AT14: 千円 | AU14: =入力内容集計表!DN2 -> 0 | AY14: 千円
H15: TEL. | L15: =入力内容集計表!G2 -> 0 | V15: FAX. | Z15: =入力内容集計表!H2 -> 0 | AJ15: =入力内容集計表!DO2 -> 0 | AK15: =入力内容集計表!DP2 | AP15: =入力内容集計表!DQ2 -> 0 | AT15: 千円 | AU15: =入力内容集計表!DR2 -> 0 | AY15: 千円
D16: 代表者の 職・氏名 | H16: 職名 | J16: =入力内容集計表!J2 -> 0 | T16: フリガナ | V16: =入力内容集計表!K2 -> 0 | AJ16: =入力内容集計表!DS2 -> 0 | AK16: =入力内容集計表!DT2 | AP16: =入力内容集計表!DU2 -> 0 | AT16: 千円 | AU16: =入力内容集計表!DV2 -> 0 | AY16: 千円
T17: 氏名 | V17: =入力内容集計表!L2 -> 0 | AJ17: =入力内容集計表!DW2 -> 0 | AK17: =入力内容集計表!DX2 | AP17: =入力内容集計表!DY2 -> 0 | AT17: 千円 | AU17: =入力内容集計表!DZ2 -> 0 | AY17: 千円
AJ18: =入力内容集計表!EA2 -> 0 | AK18: =入力内容集計表!EB2 | AP18: =入力内容集計表!EC2 -> 0 | AT18: 千円 | AU18: =入力内容集計表!ED2 -> 0 | AY18: 千円
B19: ③受任者（支店など) | D19: 受任機関 名 称 | H19: =入力内容集計表!M2 | AJ19: =入力内容集計表!EE2 -> 0 | AK19: =入力内容集計表!EF2 | AP19: =入力内容集計表!EG2 -> 0 | AT19: 千円 | AU19: =入力内容集計表!EH2 -> 0 | AY19: 千円
AJ20: =入力内容集計表!EI2 -> 0 | AK20: =入力内容集計表!EJ2 | AP20: =入力内容集計表!EK2 -> 0 | AT20: 千円 | AU20: =入力内容集計表!EL2 -> 0 | AY20: 千円
AJ21: =入力内容集計表!EM2 -> 0 | AK21: =入力内容集計表!EN2 | AP21: =入力内容集計表!EO2 -> 0 | AT21: 千円 | AU21: =入力内容集計表!EP2 -> 0 | AY21: 千円
D22: 受任機関 所在地等 | H22: 〒 | J22: =入力内容集計表!N2 -> - | V22: ﾒｰﾙ | X22: =入力内容集計表!R2 -> 0 | AJ22: その他の種目の計 | AP22: =入力内容集計表!EQ2 -> 0 | AT22: 千円 | AU22: =入力内容集計表!ER2 -> 0 | AY22: 千円
H23: =入力内容集計表!O2
AJ24: 総 計 | AP24: =入力内容集計表!ES2 -> 0 | AT24: 千円 | AU24: =入力内容集計表!ET2 -> 0 | AY24: 千円
H26: TEL. | L26: =入力内容集計表!P2 -> 0 | V26: FAX. | Z26: =入力内容集計表!Q2 -> 0 | AJ26: ⑦ 資格審査申請種目 （「申請種目表」より希望順に選択記入のこと。）
D27: 受任者の 職・氏名 | H27: 職名 | T27: フリガナ | V27: =入力内容集計表!T2 -> 0
J28: =入力内容集計表!S2 -> 0 | T28: 氏名 | V28: =入力内容集計表!U2 -> 0 | AJ28: 種目 番号 | AK28: 種目名 | AO28: 特定 一般 | AP28: 経審総合評点 | AS28: 施工できる分野・得意とする分野
B30: ④ 希望連絡先 | H30: TEL. | L30: =入力内容集計表!V2 -> 0 | V30: FAX. | Z30: =入力内容集計表!W2 -> 0 | AJ30: =入力内容集計表!EU2 -> 0 | AK30: =入力内容集計表!EV2 | AO30: =入力内容集計表!EW2 -> 0 | AP30: =入力内容集計表!EX2 -> 0 | AS30: =入力内容集計表!EY2 -> 0
B31: ◎経審の審査基準日 | L31: =入力内容集計表!AD2 -> 0 | AJ31: =入力内容集計表!EZ2 -> 0 | AK31: =入力内容集計表!FA2 | AO31: =入力内容集計表!FB2 -> 0 | AP31: =入力内容集計表!FC2 -> 0 | AS31: =入力内容集計表!FD2 -> 0
B32: ⑤ 建設業 許可状 況 | F32: 許可 １ | I32: =入力内容集計表!AE2 -> 0 | M32: =入力内容集計表!AF2 -> （〇-〇） | R32: =入力内容集計表!AG2 -> 第〇号 | X32: =入力内容集計表!AH2 -> 令和〇年〇月〇日 | AC32: ～ | AE32: =入力内容集計表!AI2 -> 令和〇年〇月〇日 | AJ32: =入力内容集計表!FE2 -> 0 | AK32: =入力内容集計表!FF2 | AO32: =入力内容集計表!FG2 -> 0 | AP32: =入力内容集計表!FH2 -> 0 | AS32: =入力内容集計表!FI2 -> 0
AJ33: =入力内容集計表!FJ2 -> 0 | AK33: =入力内容集計表!FK2 | AO33: =入力内容集計表!FL2 -> 0 | AP33: =入力内容集計表!FM2 -> 0 | AS33: =入力内容集計表!FN2 -> 0
F34: 許可 ２ | I34: =入力内容集計表!AJ2 -> 0 | M34: =入力内容集計表!AK2 -> （〇-〇） | R34: =入力内容集計表!AL2 -> 第〇号 | X34: =入力内容集計表!AM2 -> 令和〇年〇月〇日 | AC34: ～ | AE34: =入力内容集計表!AN2 -> 令和〇年〇月〇日 | AJ34: =入力内容集計表!FO2 -> 0 | AK34: =入力内容集計表!FP2 | AO34: =入力内容集計表!FQ2 -> 0 | AP34: =入力内容集計表!FR2 -> 0 | AS34: =入力内容集計表!FS2 -> 0
AJ35: =入力内容集計表!FT2 -> 0 | AK35: =入力内容集計表!FU2 | AO35: =入力内容集計表!FV2 -> 0 | AP35: =入力内容集計表!FW2 -> 0 | AS35: =入力内容集計表!FX2 -> 0
B36: ※ 許可を受けた業種の上に○印（受任者を置く場合は当該支店の許可業種のみに◯印） | AJ36: =入力内容集計表!FY2 -> 0 | AK36: =入力内容集計表!FZ2 | AO36: =入力内容集計表!GA2 -> 0 | AP36: =入力内容集計表!GB2 -> 0 | AS36: =入力内容集計表!GC2 -> 0
B37: 特定建設業 | S37: 一般建設業 | AJ37: =入力内容集計表!GD2 -> 0 | AK37: =入力内容集計表!GE2 | AO37: =入力内容集計表!GF2 -> 0 | AP37: =入力内容集計表!GG2 -> 0 | AS37: =入力内容集計表!GH2 -> 0
D38: =入力内容集計表!AO2 -> - | E38: =入力内容集計表!AP2 -> - | F38: =入力内容集計表!AQ2 -> - | G38: =入力内容集計表!AR2 -> - | H38: =入力内容集計表!AS2 -> - | I38: =入力内容集計表!AT2 -> - | J38: =入力内容集計表!AU2 -> - | K38: =入力内容集計表!AV2 -> - | ... Q38: =入力内容集計表!BB2 -> - | T38: =入力内容集計表!BR2 -> - | U38: =入力内容集計表!BS2 -> - | V38: =入力内容集計表!BT2 -> - | W38: =入力内容集計表!BU2 -> - | X38: =入力内容集計表!BV2 -> - | Y38: =入力内容集計表!BW2 -> - | Z38: =入力内容集計表!BX2 -> - | AA38: =入力内容集計表!BY2 -> - | ... AG38: =入力内容集計表!CE2 -> - | AJ38: =入力内容集計表!GI2 -> 0 | AK38: =入力内容集計表!GJ2 | AO38: =入力内容集計表!GK2 -> 0 | AP38: =入力内容集計表!GL2 -> 0 | AS38: =入力内容集計表!GM2 -> 0
D39: 土 | E39: 建 | F39: 大 | G39: 左 | H39: と | I39: 石 | J39: 屋 | K39: 電 | L39: 管 | M39: 夕 | N39: 鋼 | O39: 筋 | P39: 舗 | Q39: しゅ | T39: 土 | U39: 建 | V39: 大 | W39: 左 | X39: と | Y39: 石 | Z39: 屋 | AA39: 電 | AB39: 管 | AC39: 夕 | AD39: 鋼 | AE39: 筋 | AF39: 舗 | AG39: しゅ | AJ39: =入力内容集計表!GN2 -> 0 | AK39: =入力内容集計表!GO2 | AO39: =入力内容集計表!GP2 -> 0 | AP39: =入力内容集計表!GQ2 -> 0 | AS39: =入力内容集計表!GR2 -> 0
D40: =入力内容集計表!BC2 -> - | E40: =入力内容集計表!BD2 -> - | F40: =入力内容集計表!BE2 -> - | G40: =入力内容集計表!BF2 -> - | H40: =入力内容集計表!BG2 -> - | I40: =入力内容集計表!BH2 -> - | J40: =入力内容集計表!BI2 -> - | K40: =入力内容集計表!BJ2 -> - | ... R40: =入力内容集計表!BQ2 -> - | T40: =入力内容集計表!CF2 -> - | U40: =入力内容集計表!CG2 -> - | V40: =入力内容集計表!CH2 -> - | W40: =入力内容集計表!CI2 -> - | X40: =入力内容集計表!CJ2 -> - | Y40: =入力内容集計表!CK2 -> - | Z40: =入力内容集計表!CL2 -> - | AA40: =入力内容集計表!CM2 -> - | ... AH40: =入力内容集計表!CT2 -> - | AJ40: =入力内容集計表!GS2 -> 0 | AK40: =入力内容集計表!GT2 | AO40: =入力内容集計表!GU2 -> 0 | AP40: =入力内容集計表!GV2 -> 0 | AS40: =入力内容集計表!GW2 -> 0
D41: 板 | E41: ガ | F41: 塗 | G41: 防 | H41: 内 | I41: 機 | J41: 絶 | K41: 通 | L41: 園 | M41: 井 | N41: 具 | O41: 水 | P41: 消 | Q41: 清 | R41: 解 | T41: 板 | U41: ガ | V41: 塗 | W41: 防 | X41: 内 | Y41: 機 | Z41: 絶 | AA41: 通 | AB41: 園 | AC41: 井 | AD41: 具 | AE41: 水 | AF41: 消 | AG41: 清 | AH41: 解 | AJ41: =入力内容集計表!GX2 -> 0 | AK41: =入力内容集計表!GY2 | AO41: =入力内容集計表!GZ2 -> 0 | AP41: =入力内容集計表!HA2 -> 0 | AS41: =入力内容集計表!HB2 -> 0
B43: ⑧ 社員数 | R43: 全体 | AA43: 当該支店（受任者） | AJ43: ⑨－２ 監理技術者資格者証所持者 （受任者を置く場合は、当該支店分のみ記入）
B44: （Ａ）技術社員 | R44: =入力内容集計表!HC2 -> 0 | Y44: 人 | AA44: =入力内容集計表!HD2 -> 0 | AH44: 人 | AJ44: 土木 | AL44: 建築 | AN44: 管 | AP44: 鋼構造 | AR44: 舗装 | AT44: 電気 | AV44: 造園 | AX44: その他
B45: （Ｂ）事務員他 | R45: =入力内容集計表!HE2 -> 0 | Y45: 人 | AA45: =入力内容集計表!HF2 -> 0 | AH45: 人 | AJ45: =入力内容集計表!JU2 -> 0 | AK45: 人 | AL45: =入力内容集計表!JV2 -> 0 | AM45: 人 | AN45: =入力内容集計表!JW2 -> 0 | AO45: 人 | AP45: =入力内容集計表!JX2 -> 0 | AQ45: 人 | AR45: =入力内容集計表!JY2 -> 0 | AS45: 人 | AT45: =入力内容集計表!JZ2 -> 0 | AU45: 人 | AV45: =入力内容集計表!KA2 -> 0 | AW45: 人 | AX45: =入力内容集計表!KB2 -> 0 | AY45: 人
B46: 社員数計（Ａ）+（Ｂ） | R46: =入力内容集計表!HG2 -> 0 | Y46: 人 | AA46: =入力内容集計表!HH2 -> 0 | AH46: 人 | AJ46: ⑩ 官公庁別２年間平均完成工事高（県内のみ） ※税別・単位：千円
B47: ⑨ 資格名 | R47: 全体 | AA47: 当該支店（受任者） | AJ47: 順位 | AK47: 官公庁名 | AS47: 年間平均完成工事高（千円）
...
