Workbook
Name サービス業: リスト!$C$62:$C$72
Name その他物品: リスト!$C$59
Name 衣料・繊維: リスト!$C$6:$C$9
Name 医療衛生: リスト!$C$2:$C$5
Name 印刷製本: リスト!$C$10:$C$17
Name 機械器具: リスト!$C$18:$C$22
Name 資材: リスト!$C$32:$C$35
Name 事務機器: リスト!$C$36:$C$43
Name 消防保安・標識類: リスト!$C$44:$C$46
Name 精密機械: リスト!$C$28:$C$31
Name 賃貸借: リスト!$C$60:$C$61
Name 電気機械機器: リスト!$C$23:$C$27
Name 日用品: リスト!$C$47:$C$50
Name 燃料: リスト!$C$51:$C$52
Name 役務提供: リスト!$C$73:$C$77
Name 輸送機器: リスト!$C$53:$C$58

Sheet 入力シート
A1: 【入力シート】
A2: 令和９・１０年度 名取市競争入札参加資格審査申請入力シート 【 物品・役務 用 】
A5: ※「令和９・１０年度 名取市競争入札参加資格審査申請要領」を熟読のうえ、本シートの必要箇所への入力をお願いします。 入力された内容は、別シート「業態カード」に反映されます。提出前に入力の内容が間違いないか等確認してください。
A8: １ 基本情報入力欄
A9: １ 申請年月日（令和８年１１月２日以降の日付で、本シート作成日を入力してください。）
A10: 申請年月日 | F10: 令和 | K10: 年 | O10: 月 | S10: 日
A12: ２ 作成担当者情報（本申請の担当者様の情報を入力してください。入力内容に不明な点があった場合は、こちらへ連絡いたします。
A13: 会 社 名 | F13: 注意事項 | I13: 作成されている方の会社名を入力してください。
F15: 入 力 欄
A17: 部 署 名 | F17: 注意事項 | I17: 部署等がない方は「なし」と入力してください。
F19: 入 力 欄
A21: 氏 名 | F21: 注意事項 | I21: 姓と名の間は１文字スペースを空けて入力してください。
F23: 入 力 欄
A25: 氏 名 （フリガナ） | F25: 注意事項 | I25: 姓と名の間は１文字スペースを空けて入力してください。
F27: 入 力 欄
A29: メールアドレス | F29: 注意事項 | I29: 本申請の入力内容等に不明な内容があった場合等に使用させていただきます。
F31: 入 力 欄
A33: 電話番号 | F33: 注意事項 | I33: 日中繋がる番号であれば、携帯電話の番号でも構いません。
F35: 入 力 欄
A37: ＦＡＸ番号 | F37: 注意事項 | I37: ＦＡＸ番号がない場合は、「なし」と入力してください。
F39: 入 力 欄
A42: ２ 会社基本情報
A43: １ 本社・本店情報
A44: 申請区分 | F44: 注意事項 | I44: 名取市で初めて登録する場合は「新規」、過去に登録したことがあれば「更新」と入力してください。 「更新」の場合、登録時の承認番号を入力をしてください。不明な場合は「不明」と入力してください。
F46: 入 力 欄 | I46: 新規or更新 | Y46: 承認番号
A48: 名 称 | F48: 注意事項 | I48: 会社組織の種別（株式会社 等）は略さずに入力してください。 会社組織の種別と会社名の間は、スペースを空けないでください。
F50: 入 力 欄
A52: 名 称 （フリガナ） | F52: 注意事項 | I52: 会社組織の種別（カブシキガイシャ 等）は入力しないでください。
F54: 入 力 欄
A56: 郵便番号 | F56: 注意事項 | I56: 郵便区番号（３桁）、町域番号（４桁）をすべて入力してください。
F58: 入 力 欄 | N58: －
A60: 住 所 （都道府県名） | F60: 注意事項 | I60: ドロップダウンリストから都道府県を選択してください。
F62: 入 力 欄
A64: 住 所 （市区町村以降） | F64: 注意事項 | I64: 都道府県名以降について入力してください。肩書（建物名等）を入力する場合は、住所の間に１文字スペースを空けてください。
F66: 入 力 欄
A68: 代表者肩書 | F68: 注意事項 | I68: 法人の場合は、会社組織等の代表者の職名を入力、個人の場合は任意の肩書を入力してください。
F70: 入 力 欄
A72: 代表者名 | F72: 注意事項 | I72: 姓と名の間は１文字スペースを空けて入力してください。
F74: 入 力 欄
A76: 代表者名 （フリガナ） | F76: 注意事項 | I76: 姓と名の間は１文字スペースを空けて入力してください。
...

Sheet 入力例
A1: 【入力例】
A2: 令和９・１０年度 名取市競争入札参加資格審査申請入力シート 【 物品・役務 用 】
A5: ※「令和９・１０年度 名取市競争入札参加資格審査申請要領」を熟読のうえ、本シートの必要箇所への入力をお願いします。 入力された内容は、別シート「業態カード」に反映されます。提出前に入力の内容が間違いないか等確認してください。
A8: １ 基本情報入力欄
A9: １ 申請年月日（令和８年１１月２日以降の日付で、本シート作成日を入力してください。）
A10: 申請年月日 | F10: 令和 | I10: 8 | K10: 年 | M10: 11 | O10: 月 | Q10: 2 | S10: 日
A12: ２ 作成担当者情報（本申請の担当者様の情報を入力してください。入力内容に不明な点があった場合は、こちらへ連絡いたします。
A13: 会 社 名 | F13: 注意事項 | I13: 作成されている方の会社名を入力してください。
F15: 入 力 欄 | I15: 株式会社なとりし
A17: 部 署 名 | F17: 注意事項 | I17: 部署等がない方は「なし」と入力してください。
F19: 入 力 欄 | I19: なし
A21: 氏 名 | F21: 注意事項 | I21: 姓と名の間は１文字スペースを空けて入力してください。
F23: 入 力 欄 | I23: 名取 次郎
A25: 氏 名 （フリガナ） | F25: 注意事項 | I25: 姓と名の間は１文字スペースを空けて入力してください。
F27: 入 力 欄 | I27: ナトリ ジロウ
A29: メールアドレス | F29: 注意事項 | I29: 本申請の入力内容等に不明な内容があった場合等に使用させていただきます。
F31: 入 力 欄 | I31: natori@miyagi.co.jp
A33: 電話番号 | F33: 注意事項 | I33: 日中繋がる番号であれば、携帯電話の番号でも構いません。
F35: 入 力 欄 | I35: 022-724-7156
A37: ＦＡＸ番号 | F37: 注意事項 | I37: ＦＡＸ番号がない場合は、「なし」と入力してください。
F39: 入 力 欄 | I39: 022-384-9680
A42: ２ 会社基本情報
A43: １ 本社・本店情報
A44: 申請区分 | F44: 注意事項 | I44: 名取市で初めて登録する場合は「新規」、過去に登録したことがあれば「更新」と入力してください。 「更新」の場合、登録時の承認番号を入力をしてください。不明な場合は「不明」と入力してください。
F46: 入 力 欄 | I46: 新規or更新 | S46: 新規 | Y46: 承認番号
A48: 名 称 | F48: 注意事項 | I48: 会社組織の種別（株式会社 等）は略さずに入力してください。 会社組織の種別と会社名の間は、スペースを空けないでください。
F50: 入 力 欄 | I50: 株式会社なとりし
A52: 名 称 （フリガナ） | F52: 注意事項 | I52: 会社組織の種別（カブシキガイシャ 等）は入力しないでください。
F54: 入 力 欄 | I54: ナトリシ
A56: 郵便番号 | F56: 注意事項 | I56: 郵便区番号（３桁）、町域番号（４桁）をすべて入力してください。
F58: 入 力 欄 | I58: 981 | N58: － | P58: 1292
A60: 住 所 （都道府県名） | F60: 注意事項 | I60: ドロップダウンリストから都道府県を選択してください。
F62: 入 力 欄 | I62: 宮城県
A64: 住 所 （市区町村以降） | F64: 注意事項 | I64: 都道府県名以降について入力してください。肩書（建物名等）を入力する場合は、住所の間に１文字スペースを空けてください。
F66: 入 力 欄 | I66: 名取市増田字柳田８０
A68: 代表者肩書 | F68: 注意事項 | I68: 法人の場合は、会社組織等の代表者の職名を入力、個人の場合は任意の肩書を入力してください。
F70: 入 力 欄 | I70: 代表取締役
A72: 代表者名 | F72: 注意事項 | I72: 姓と名の間は１文字スペースを空けて入力してください。
F74: 入 力 欄 | I74: 宮城 太郎
A76: 代表者名 （フリガナ） | F76: 注意事項 | I76: 姓と名の間は１文字スペースを空けて入力してください。
...

Sheet 入力内容集計表
A1: 承認番号 | B1: 区分 | C1: 本店名称(ﾌﾘｶﾞﾅ) | D1: 本店名称 | E1: 本店郵便番号 | F1: 本店所在地 | G1: 本店電話番号 | H1: 本店FAX番号 | I1: 本店ｱﾄﾞﾚｽ | J1: 本店代表者肩書 | K1: 本店代表者名(ﾌﾘｶﾞﾅ) | L1: 本店代表者名 | M1: 受任機関名称 | N1: 受任機関郵便番号 | O1: 受任機関所在地 | P1: 受任機関電話番号 | Q1: 受任機関FAX番号 | R1: 受任機関ｱﾄﾞﾚｽ | S1: 受任機関代表者肩書 | T1: 受任機関代表者名(ﾌﾘｶﾞﾅ) | U1: 受任機関代表者名 | V1: 希望電話番号 | W1: 希望FAX番号 | X1: 営業年数 | Y1: 資本金 | Z1: 名取市居住 | AA1: 特別徴収 | AB1: 住所（特殊） | AC1: 許可１（登録日） | AD1: 許可１（名称） | AE1: 許可１（番号） | AF1: 許可２（登録日） | AG1: 許可２（名称） | AH1: 許可２（番号） | AI1: 許可３（登録日） | AJ1: 許可３（名称） | AK1: 許可３（番号） | AL1: 許可４（登録日） | AM1: 許可４（名称） | AN1: 許可４（番号） | AO1: 許可５（登録日） | AP1: 許可５（名称） | AQ1: 許可５（番号） | AR1: 売上高１（品目） | AS1: 売上高１（全体） | AT1: 売上高１（受任） | AU1: 売上高２（品目） | AV1: 売上高２（全体） | AW1: 売上高２（受任） | AX1: 売上高３（品目） | AY1: 売上高３（全体） | AZ1: 売上高３（受任） | BA1: 売上合計（全体） | BB1: 売上合計（受任） | BC1: 取引１（大分類№） | BD1: 取引１（大分類名称） | BE1: 取引１（小分類№） | BF1: 取引１（小分類名称） | BG1: 取引１（品名） | BH1: 取引２（大分類№） | BI1: 取引２（大分類名称） | BJ1: 取引２（小分類№） | BK1: 取引２（小分類名称） | BL1: 取引２（品名） | BM1: 取引３（大分類№） | BN1: 取引３（大分類名称） | BO1: 取引３（小分類№） | BP1: 取引３（小分類名称） | BQ1: 取引３（品名） | BR1: 取引４（大分類№） | BS1: 取引４（大分類名称） | BT1: 取引４（小分類№） | BU1: 取引４（小分類名称） | BV1: 取引４（品名） | BW1: 取引５（大分類№） | BX1: 取引５（大分類名称） | BY1: 取引５（小分類№） | BZ1: 取引５（小分類名称） | CA1: 取引５（品名） | CB1: 取引６（大分類№） | CC1: 取引６（大分類名称） | CD1: 取引６（小分類№） | CE1: 取引６（小分類名称） | CF1: 取引６（品名） | CG1: 取引７（大分類№） | CH1: 取引７（大分類名称） | CI1: 取引７（小分類№） | CJ1: 取引７（小分類名称） | CK1: 取引７（品名） | CL1: 取引８（大分類№） | CM1: 取引８（大分類名称） | CN1: 取引８（小分類№） | CO1: 取引８（小分類名称） | CP1: 取引８（品名） | CQ1: 取引９（大分類№） | CR1: 取引９（大分類名称） | CS1: 取引９（小分類№） | CT1: 取引９（小分類名称） | CU1: 取引９（品名） | CV1: 取引１０（大分類№） | CW1: 取引１０（大分類名称） | CX1: 取引１０（小分類№） | CY1: 取引１０（小分類名称） | CZ1: 取引１０（品名） | DA1: 取引１1（大分類№） | DB1: 取引１1（大分類名称） | DC1: 取引１1（小分類№） | DD1: 取引１1（小分類名称） | DE1: 取引１1（品名） | DF1: 取扱１（大分類№） | DG1: 取扱１（大分類名称） | DH1: 取扱１（小分類№） | DI1: 取扱１（小分類名称） | DJ1: 取扱１（品名） | DK1: 取扱１（ﾒｰｶｰ） | DL1: 取扱２（大分類№） | DM1: 取扱２（大分類名称） | DN1: 取扱２（小分類№） | DO1: 取扱２（小分類名称） | DP1: 取扱２（品名） | DQ1: 取扱２（ﾒｰｶｰ） | DR1: 取扱３（大分類№） | DS1: 取扱３（大分類名称） | DT1: 取扱３（小分類№） | DU1: 取扱３（小分類名称） | DV1: 取扱３（品名） | DW1: 取扱３（ﾒｰｶｰ） | DX1: 取扱４（大分類№） | DY1: 取扱４（大分類名称） | DZ1: 取扱４（小分類№） | EA1: 取扱４（小分類名称） | EB1: 取扱４（品名） | EC1: 取扱４（ﾒｰｶｰ） | ED1: 取扱５（大分類№） | EE1: 取扱５（大分類名称） | EF1: 取扱５（小分類№） | EG1: 取扱５（小分類名称） | EH1: 取扱５（品名） | EI1: 取扱５（ﾒｰｶｰ） | EJ1: 取扱６（大分類№） | EK1: 取扱６（大分類名称） | EL1: 取扱６（小分類№） | EM1: 取扱６（小分類名称） | EN1: 取扱６（品名） | EO1: 取扱６（ﾒｰｶｰ） | EP1: 取扱７（大分類№） | EQ1: 取扱７（大分類名称） | ER1: 取扱７（小分類№） | ES1: 取扱７（小分類名称） | ET1: 取扱７（品名） | EU1: 取扱７（ﾒｰｶｰ） | EV1: 取扱８（大分類№） | EW1: 取扱８（大分類名称） | EX1: 取扱８（小分類№） | EY1: 取扱８（小分類名称） | EZ1: 取扱８（品名） | FA1: 取扱８（ﾒｰｶｰ） | FB1: 取扱９（大分類№） | FC1: 取扱９（大分類名称） | FD1: 取扱９（小分類№） | FE1: 取扱９（小分類名称） | FF1: 取扱９（品名） | FG1: 取扱９（ﾒｰｶｰ） | FH1: 取扱１０（大分類№） | FI1: 取扱１０（大分類名称） | FJ1: 取扱１０（小分類№） | FK1: 取扱１０（小分類名称） | FL1: 取扱１０（品名） | FM1: 取扱１０（ﾒｰｶｰ） | FN1: 取扱１１（大分類№） | FO1: 取扱１１（大分類名称） | FP1: 取扱１１（小分類№） | FQ1: 取扱１１（小分類名称） | FR1: 取扱１１（品名） | FS1: 取扱１１（ﾒｰｶｰ） | FT1: 取扱１２（大分類№） | FU1: 取扱１２（大分類名称） | FV1: 取扱１２（小分類№） | FW1: 取扱１２（小分類名称） | FX1: 取扱１２（品名） | FY1: 取扱１２（ﾒｰｶｰ） | FZ1: 取扱１３（大分類№） | GA1: 取扱１３（大分類名称） | GB1: 取扱１３（小分類№） | GC1: 取扱１３（小分類名称） | GD1: 取扱１３（品名） | GE1: 取扱１３（ﾒｰｶｰ） | GF1: 取扱１４（大分類№） | GG1: 取扱１４（大分類名称） | GH1: 取扱１４（小分類№） | GI1: 取扱１４（小分類名称） | GJ1: 取扱１４（品名） | GK1: 取扱１４（ﾒｰｶｰ） | GL1: 取扱１５（大分類№） | GM1: 取扱１５（大分類名称） | GN1: 取扱１５（小分類№） | GO1: 取扱１５（小分類名称） | GP1: 取扱１５（品名） | GQ1: 取扱１５（ﾒｰｶｰ） | GR1: 取扱１６（大分類№） | GS1: 取扱１６（大分類名称） | GT1: 取扱１６（小分類№） | GU1: 取扱１６（小分類名称） | GV1: 取扱１６（品名） | GW1: 取扱１６（ﾒｰｶｰ） | GX1: 取扱１７（大分類№） | GY1: 取扱１７（大分類名称） | GZ1: 取扱１７（小分類№） | HA1: 取扱１７（小分類名称） | HB1: 取扱１７（品名） | HC1: 取扱１７（ﾒｰｶｰ） | HD1: 取扱１８（大分類№） | HE1: 取扱１８（大分類名称） | HF1: 取扱１８（小分類№） | HG1: 取扱１８（小分類名称） | HH1: 取扱１８（品名） | HI1: 取扱１８（ﾒｰｶｰ） | HJ1: 取扱１９（大分類№） | HK1: 取扱１９（大分類名称） | HL1: 取扱１９（小分類№） | HM1: 取扱１９（小分類名称） | HN1: 取扱１９（品名） | HO1: 取扱１９（ﾒｰｶｰ） | HP1: 取扱２０（大分類№） | HQ1: 取扱２０（大分類名称） | HR1: 取扱２０（小分類№） | HS1: 取扱２０（小分類名称） | HT1: 取扱２０（品名） | HU1: 取扱２０（ﾒｰｶｰ） | HV1: 取扱２１（大分類№） | HW1: 取扱２１（大分類名称） | HX1: 取扱２１（小分類№） | HY1: 取扱２１（小分類名称） | HZ1: 取扱２１（品名） | IA1: 取扱２１（ﾒｰｶｰ） | IB1: 取扱２２（大分類№） | IC1: 取扱２２（大分類名称） | ID1: 取扱２２（小分類№） | IE1: 取扱２２（小分類名称） | IF1: 取扱２２（品名） | IG1: 取扱２２（ﾒｰｶｰ） | IH1: 取扱２３（大分類№） | II1: 取扱２３（大分類名称） | IJ1: 取扱２３（小分類№） | IK1: 取扱２３（小分類名称） | IL1: 取扱２３（品名） | IM1: 取扱２３（ﾒｰｶｰ） | IN1: 取扱２４（大分類№） | IO1: 取扱２４（大分類名称） | IP1: 取扱２４（小分類№） | IQ1: 取扱２４（小分類名称） | IR1: 取扱２４（品名） | IS1: 取扱２４（ﾒｰｶｰ） | IT1: 取扱２５（大分類№） | IU1: 取扱２５（大分類名称） | IV1: 取扱２５（小分類№） | IW1: 取扱２５（小分類名称） | IX1: 取扱２５（品名） | IY1: 取扱２５（ﾒｰｶｰ） | IZ1: 取扱２６（大分類№） | JA1: 取扱２６（大分類名称） | JB1: 取扱２６（小分類№） | JC1: 取扱２６（小分類名称） | JD1: 取扱２６（品名） | JE1: 取扱２６（ﾒｰｶｰ） | JF1: 取扱２７（大分類№） | JG1: 取扱２７（大分類名称） | JH1: 取扱２７（小分類№） | JI1: 取扱２７（小分類名称） | JJ1: 取扱２７（品名） | JK1: 取扱２７（ﾒｰｶｰ） | JL1: 取扱２８（大分類№） | JM1: 取扱２８（大分類名称） | JN1: 取扱２８（小分類№） | JO1: 取扱２８（小分類名称） | JP1: 取扱２８（品名） | JQ1: 取扱２８（ﾒｰｶｰ） | JR1: 取扱２９（大分類№） | JS1: 取扱２９（大分類名称） | JT1: 取扱２９（小分類№） | JU1: 取扱２９（小分類名称） | JV1: 取扱２９（品名） | JW1: 取扱２９（ﾒｰｶｰ） | JX1: 取扱３０（大分類№） | JY1: 取扱３０（大分類名称） | JZ1: 取扱３０（小分類№） | KA1: 取扱３０（小分類名称） | KB1: 取扱３０（品名） | KC1: 取扱３０（ﾒｰｶｰ） | KD1: 代理店１（会社名） | KE1: 代理店１（品名） | KF1: 代理店１（契約内容） | KG1: 代理店２（会社名） | KH1: 代理店２（品名） | KI1: 代理店２（契約内容） | KJ1: 代理店３（会社名） | KK1: 代理店３（品名） | KL1: 代理店３（契約内容） | KM1: 代理店４（会社名） | KN1: 代理店４（品名） | KO1: 代理店４（契約内容） | KP1: 代理店５（会社名） | KQ1: 代理店５（品名） | KR1: 代理店５（契約内容） | KS1: 代理店６（会社名） | KT1: 代理店６（品名） | KU1: 代理店６（契約内容） | KV1: 代理店７（会社名） | KW1: 代理店７（品名） | KX1: 代理店７（契約内容） | KY1: 代理店８（会社名） | KZ1: 代理店８（品名） | LA1: 代理店８（契約内容） | LB1: 代理店９（会社名） | LC1: 代理店９（品名） | LD1: 代理店９（契約内容） | LE1: 代理店１０（会社名） | LF1: 代理店１０（品名） | LG1: 代理店１０（契約内容） | LH1: 会社PR
A2: =入力シート!AI46 -> 0 | B2: =入力シート!S46 -> 0 | C2: =入力シート!I54 -> 0 | D2: =入力シート!I50 -> 0 | E2: =入力シート!I58&"-"&入力シート!P58 -> - | F2: =入力シート!I62&入力シート!I66 | G2: =入力シート!I82 -> 0 | H2: =入力シート!I86 -> 0 | I2: =入力シート!I90 -> 0 | J2: =入力シート!I70 -> 0 | K2: =入力シート!I78 -> 0 | L2: =入力シート!I74 -> 0 | M2: =入力シート!I99& 入力シート!AE99 | N2: =入力シート!I103&"-"&入力シート!P103 -> - | O2: =入力シート!I107&入力シート!I111 | P2: =入力シート!I127 -> 0 | Q2: =入力シート!I131 -> 0 | R2: =入力シート!I135 -> 0 | S2: =入力シート!I115 -> 0 | T2: =入力シート!I123 -> 0 | U2: =入力シート!I119 -> 0 | V2: =入力シート!I140 -> 0 | W2: =入力シート!I144 -> 0 | X2: =入力シート!I148 -> 0 | Y2: =入力シート!I152 -> 0 | Z2: =入力シート!S156 -> 0 | AA2: =入力シート!AI156 -> 0 | AB2: =入力シート!I160 -> 0 | AC2: =入力シート!U168 -> 0 | AD2: =入力シート!I168 -> 0 | AE2: =入力シート!AE168 -> 0 | AF2: =入力シート!U170 -> 0 | AG2: =入力シート!I170 -> 0 | AH2: =入力シート!AE170 -> 0 | AI2: =入力シート!U172 -> 0 | AJ2: =入力シート!I172 -> 0 | AK2: =入力シート!AE172 -> 0 | AL2: =入力シート!U174 -> 0 | AM2: =入力シート!I174 -> 0 | AN2: =入力シート!AE174 -> 0 | AO2: =入力シート!U176 -> 0 | AP2: =入力シート!I176 -> 0 | AQ2: =入力シート!AE176 -> 0 | AR2: =入力シート!I183 -> 0 | AS2: =入力シート!U183 -> 0 | AT2: =入力シート!AE183 -> 0 | AU2: =入力シート!I185 -> 0 | AV2: =入力シート!U185 -> 0 | AW2: =入力シート!AE185 -> 0 | AX2: =入力シート!I187 -> 0 | AY2: =入力シート!U187 -> 0 | AZ2: =入力シート!AE187 -> 0 | BA2: =入力シート!U189 -> 0 | BB2: =入力シート!AE189 -> 0 | BC2: =入力シート!I196 -> 0 | BD2: =入力シート!M196 | BE2: =入力シート!S196 -> 0 | BF2: =入力シート!W196 | BG2: =入力シート!AC196 -> 0 | BH2: =入力シート!I198 -> 0 | BI2: =入力シート!M198 | BJ2: =入力シート!S198 -> 0 | BK2: =入力シート!W198 | BL2: =入力シート!AC198 -> 0 | BM2: =入力シート!I200 -> 0 | BN2: =入力シート!M200 | BO2: =入力シート!S200 -> 0 | BP2: =入力シート!W200 | BQ2: =入力シート!AC200 -> 0 | BR2: =入力シート!I202 -> 0 | BS2: =入力シート!M202 | BT2: =入力シート!S202 -> 0 | BU2: =入力シート!W202 | BV2: =入力シート!AC202 -> 0 | BW2: =入力シート!I204 -> 0 | BX2: =入力シート!M204 | BY2: =入力シート!S204 -> 0 | BZ2: =入力シート!W204 | CA2: =入力シート!AC204 -> 0 | CB2: =入力シート!I206 -> 0 | CC2: =入力シート!M206 | CD2: =入力シート!S206 -> 0 | CE2: =入力シート!W206 | CF2: =入力シート!AC206 -> 0 | CG2: =入力シート!I208 -> 0 | CH2: =入力シート!M208 | CI2: =入力シート!S208 -> 0 | CJ2: =入力シート!W208 | CK2: =入力シート!AC208 -> 0 | CL2: =入力シート!I210 -> 0 | CM2: =入力シート!M210 | CN2: =入力シート!S210 -> 0 | CO2: =入力シート!W210 | CP2: =入力シート!AC210 -> 0 | CQ2: =入力シート!I212 -> 0 | CR2: =入力シート!M212 | CS2: =入力シート!S212 -> 0 | CT2: =入力シート!W212 | CU2: =入力シート!AC212 -> 0 | CV2: =入力シート!I214 -> 0 | CW2: =入力シート!M214 | CX2: =入力シート!S214 -> 0 | CY2: =入力シート!W214 | CZ2: =入力シート!AC214 -> 0 | DA2: =入力シート!I216 -> 0 | DB2: =入力シート!M216 | DC2: =入力シート!S216 -> 0 | DD2: =入力シート!W216 | DE2: =入力シート!AC216 -> 0 | DF2: =入力シート!I223 -> 0 | DG2: =入力シート!L223 | DH2: =入力シート!Q223 -> 0 | DI2: =入力シート!T223 | DJ2: =入力シート!Y223 -> 0 | DK2: =入力シート!AG223 -> 0 | DL2: =入力シート!I225 -> 0 | DM2: =入力シート!L225 | DN2: =入力シート!Q225 -> 0 | DO2: =入力シート!T225 | DP2: =入力シート!Y225 -> 0 | DQ2: =入力シート!AG225 -> 0 | DR2: =入力シート!I227 -> 0 | DS2: =入力シート!L227 | DT2: =入力シート!Q227 -> 0 | DU2: =入力シート!T227 | DV2: =入力シート!Y227 -> 0 | DW2: =入力シート!AG227 -> 0 | DX2: =入力シート!I229 -> 0 | DY2: =入力シート!L229 | DZ2: =入力シート!Q229 -> 0 | EA2: =入力シート!T229 | EB2: =入力シート!Y229 -> 0 | EC2: =入力シート!AG229 -> 0 | ED2: =入力シート!I231 -> 0 | EE2: =入力シート!L231 | EF2: =入力シート!Q231 -> 0 | EG2: =入力シート!T231 | EH2: =入力シート!Y231 -> 0 | EI2: =入力シート!AG231 -> 0 | EJ2: =入力シート!I233 -> 0 | EK2: =入力シート!L233 | EL2: =入力シート!Q233 -> 0 | EM2: =入力シート!T233 | EN2: =入力シート!Y233 -> 0 | EO2: =入力シート!AG233 -> 0 | EP2: =入力シート!I235 -> 0 | EQ2: =入力シート!L235 | ER2: =入力シート!Q235 -> 0 | ES2: =入力シート!T235 | ET2: =入力シート!Y235 -> 0 | EU2: =入力シート!AG235 -> 0 | EV2: =入力シート!I237 -> 0 | EW2: =入力シート!L237 | EX2: =入力シート!Q237 -> 0 | EY2: =入力シート!T237 | EZ2: =入力シート!Y237 -> 0 | FA2: =入力シート!AG237 -> 0 | FB2: =入力シート!I239 -> 0 | FC2: =入力シート!L239 | FD2: =入力シート!Q239 -> 0 | FE2: =入力シート!T239 | FF2: =入力シート!Y239 -> 0 | FG2: =入力シート!AG239 -> 0 | FH2: =入力シート!I241 -> 0 | FI2: =入力シート!L241 | FJ2: =入力シート!Q241 -> 0 | FK2: =入力シート!T241 | FL2: =入力シート!Y241 -> 0 | FM2: =入力シート!AG241 -> 0 | FN2: =入力シート!I243 -> 0 | FO2: =入力シート!L243 | FP2: =入力シート!Q243 -> 0 | FQ2: =入力シート!T243 | FR2: =入力シート!Y243 -> 0 | FS2: =入力シート!AG243 -> 0 | FT2: =入力シート!I245 -> 0 | FU2: =入力シート!L245 | FV2: =入力シート!Q245 -> 0 | FW2: =入力シート!T245 | FX2: =入力シート!Y245 -> 0 | FY2: =入力シート!AG245 -> 0 | FZ2: =入力シート!I247 -> 0 | GA2: =入力シート!L247 | GB2: =入力シート!Q247 -> 0 | GC2: =入力シート!T247 | GD2: =入力シート!Y247 -> 0 | GE2: =入力シート!AG247 -> 0 | GF2: =入力シート!I249 -> 0 | GG2: =入力シート!L249 | GH2: =入力シート!Q249 -> 0 | GI2: =入力シート!T249 | GJ2: =入力シート!Y249 -> 0 | GK2: =入力シート!AG249 -> 0 | GL2: =入力シート!I251 -> 0 | GM2: =入力シート!L251 | GN2: =入力シート!Q251 -> 0 | GO2: =入力シート!T251 | GP2: =入力シート!Y251 -> 0 | GQ2: =入力シート!AG251 -> 0 | GR2: =入力シート!I253 -> 0 | GS2: =入力シート!L253 | GT2: =入力シート!Q253 -> 0 | GU2: =入力シート!T253 | GV2: =入力シート!Y253 -> 0 | GW2: =入力シート!AG253 -> 0 | GX2: =入力シート!I255 -> 0 | GY2: =入力シート!L255 | GZ2: =入力シート!Q255 -> 0 | HA2: =入力シート!T255 | HB2: =入力シート!Y255 -> 0 | HC2: =入力シート!AG255 -> 0 | HD2: =入力シート!I257 -> 0 | HE2: =入力シート!L257 | HF2: =入力シート!Q257 -> 0 | HG2: =入力シート!T257 | HH2: =入力シート!Y257 -> 0 | HI2: =入力シート!AG257 -> 0 | HJ2: =入力シート!I259 -> 0 | HK2: =入力シート!L259 | HL2: =入力シート!Q259 -> 0 | HM2: =入力シート!T259 | HN2: =入力シート!Y259 -> 0 | HO2: =入力シート!AG259 -> 0 | HP2: =入力シート!I261 -> 0 | HQ2: =入力シート!L261 | HR2: =入力シート!Q261 -> 0 | HS2: =入力シート!T261 | HT2: =入力シート!Y261 -> 0 | HU2: =入力シート!AG261 -> 0 | HV2: =入力シート!I263 -> 0 | HW2: =入力シート!L263 | HX2: =入力シート!Q263 -> 0 | HY2: =入力シート!T263 | HZ2: =入力シート!Y263 -> 0 | IA2: =入力シート!AG263 -> 0 | IB2: =入力シート!I265 -> 0 | IC2: =入力シート!L265 | ID2: =入力シート!Q265 -> 0 | IE2: =入力シート!T265 | IF2: =入力シート!Y265 -> 0 | IG2: =入力シート!AG265 -> 0 | IH2: =入力シート!I267 -> 0 | II2: =入力シート!L267 | IJ2: =入力シート!Q267 -> 0 | IK2: =入力シート!T267 | IL2: =入力シート!Y267 -> 0 | IM2: =入力シート!AG267 -> 0 | IN2: =入力シート!I269 -> 0 | IO2: =入力シート!L269 | IP2: =入力シート!Q269 -> 0 | IQ2: =入力シート!T269 | IR2: =入力シート!Y269 -> 0 | IS2: =入力シート!AG269 -> 0 | IT2: =入力シート!I271 -> 0 | IU2: =入力シート!L271 | IV2: =入力シート!Q271 -> 0 | IW2: =入力シート!T271 | IX2: =入力シート!Y271 -> 0 | IY2: =入力シート!AG271 -> 0 | IZ2: =入力シート!I273 -> 0 | JA2: =入力シート!L273 | JB2: =入力シート!Q273 -> 0 | JC2: =入力シート!T273 | JD2: =入力シート!Y273 -> 0 | JE2: =入力シート!AG273 -> 0 | JF2: =入力シート!I275 -> 0 | JG2: =入力シート!L275 | JH2: =入力シート!Q275 -> 0 | JI2: =入力シート!T275 | JJ2: =入力シート!Y275 -> 0 | JK2: =入力シート!AG275 -> 0 | JL2: =入力シート!I277 -> 0 | JM2: =入力シート!L277 | JN2: =入力シート!Q277 -> 0 | JO2: =入力シート!T277 | JP2: =入力シート!Y277 -> 0 | JQ2: =入力シート!AG277 -> 0 | JR2: =入力シート!I279 -> 0 | JS2: =入力シート!L279 | JT2: =入力シート!Q279 -> 0 | JU2: =入力シート!T279 | JV2: =入力シート!Y279 -> 0 | JW2: =入力シート!AG279 -> 0 | JX2: =入力シート!I281 -> 0 | JY2: =入力シート!L281 | JZ2: =入力シート!Q281 -> 0 | KA2: =入力シート!T281 | KB2: =入力シート!Y281 -> 0 | KC2: =入力シート!AG281 -> 0 | KD2: =入力シート!I288 -> 0 | KE2: =入力シート!V288 -> 0 | KF2: =入力シート!AI288 -> 0 | KG2: =入力シート!I290 -> 0 | KH2: =入力シート!V290 -> 0 | KI2: =入力シート!AI290 -> 0 | KJ2: =入力シート!I292 -> 0 | KK2: =入力シート!V292 -> 0 | KL2: =入力シート!AI292 -> 0 | KM2: =入力シート!I294 -> 0 | KN2: =入力シート!V294 -> 0 | KO2: =入力シート!AI294 -> 0 | KP2: =入力シート!I296 -> 0 | KQ2: =入力シート!V296 -> 0 | KR2: =入力シート!AI296 -> 0 | KS2: =入力シート!I298 -> 0 | KT2: =入力シート!V298 -> 0 | KU2: =入力シート!AI298 -> 0 | KV2: =入力シート!I300 -> 0 | KW2: =入力シート!V300 -> 0 | KX2: =入力シート!AI300 -> 0 | KY2: =入力シート!I302 -> 0 | KZ2: =入力シート!V302 -> 0 | LA2: =入力シート!AI302 -> 0 | LB2: =入力シート!I304 -> 0 | LC2: =入力シート!V304 -> 0 | LD2: =入力シート!AI304 -> 0 | LE2: =入力シート!I306 -> 0 | LF2: =入力シート!V306 -> 0 | LG2: =入力シート!AI306 -> 0 | LH2: =入力シート!F311 -> 0

Sheet 物品申請種目
A1: 大分類№ | B1: 大分類名称 | C1: 小分類№ | D1: 小分類名称
A2: 1 | B2: 医療衛生 | C2: 1-1 | D2: 医薬品、衛生材料
C3: 1-2 | D3: 医療機械器具
C4: 1-3 | D4: 防疫剤・農業用品
C5: 1-4 | D5: 工業薬品
A6: 2 | B6: 衣料・繊維 | C6: 2-1 | D6: 染色
C7: 2-2 | D7: 被服、縫製
C8: 2-3 | D8: 皮革、ゴム
C9: 2-4 | D9: 室内装飾
A10: 3 | B10: 印刷製本 | C10: 3-1 | D10: 一般印刷（商業印刷）
C11: 3-2 | D11: 一般印刷（頁物・出版印刷）
C12: 3-3 | D12: 事務用印刷
C13: 3-4 | D13: フォ－ム印刷
C14: 3-5 | D14: 特殊印刷
C15: 3-6 | D15: 地図・航空写真
C16: 3-7 | D16: 製 本
C17: 3-8 | D17: 複写・青写真焼付等
A18: 4 | B18: 機械器具 | C18: 4-1 | D18: 土木建設用機械器具
C19: 4-2 | D19: 運搬用機械器具
C20: 4-3 | D20: 空調機器
C21: 4-4 | D21: 厨房用機械器具
C22: 4-5 | D22: ガス・石油機器
A23: 5 | B23: 電気機械機器 | C23: 5-1 | D23: 家電品
C24: 5-2 | D24: 視聴覚関係機器
C25: 5-3 | D25: 通信機器
C26: 5-4 | D26: 照明機器
C27: 5-5 | D27: 情報処理機器
A28: 6 | B28: 精密機械 | C28: 6-1 | D28: カメラ・時計等
C29: 6-2 | D29: 理化学機器等
C30: 6-3 | D30: 計測・計量機器
C31: 6-4 | D31: その他精密機械
A32: 7 | B32: 資材 | C32: 7-1 | D32: コンクリ－ト二次製品
C33: 7-2 | D33: ヒューム管
C34: 7-3 | D34: 鋳鉄・鉄蓋
C35: 7-4 | D35: その他資材
A36: 8 | B36: 事務機器 | C36: 8-1 | D36: 文具
C37: 8-2 | D37: 事務機
C38: 8-3 | D38: 木鋼製品
C39: 8-4 | D39: 図書
C40: 8-5 | D40: 学校等教材教具
...

Sheet リスト
A1: 大分類№ | B1: 大分類名称 | C1: 小分類№
A2: 1 | B2: 医療衛生 | C2: 1-1
A3: 2 | B3: 衣料・繊維 | C3: 1-2
A4: 3 | B4: 印刷製本 | C4: 1-3
A5: 4 | B5: 機械器具 | C5: 1-4
A6: 5 | B6: 電気機械機器 | C6: 2-1
A7: 6 | B7: 精密機械 | C7: 2-2
A8: 7 | B8: 資材 | C8: 2-3
A9: 8 | B9: 事務機器 | C9: 2-4
A10: 9 | B10: 消防保安・標識類 | C10: 3-1
A11: 10 | B11: 日用品 | C11: 3-2
A12: 11 | B12: 燃料 | C12: 3-3
A13: 12 | B13: 輸送機器 | C13: 3-4
... A17: 16 | B17: 役務提供 | C17: 3-8
C18: 4-1
C19: 4-2
C20: 4-3
C21: 4-4
C22: 4-5
C23: 5-1
C24: 5-2
C25: 5-3
C26: 5-4
C27: 5-5
C28: 6-1
C29: 6-2
... C77: 16-5

Sheet リスト２
A1: 小分類№ | B1: 小分類名称
A2: 1-1 | B2: 医薬品、衛生材料
A3: 1-2 | B3: 医療機械器具
A4: 1-3 | B4: 防疫剤・農業用品
A5: 1-4 | B5: 工業薬品
A6: 2-1 | B6: 染色
A7: 2-2 | B7: 被服、縫製
A8: 2-3 | B8: 皮革、ゴム
A9: 2-4 | B9: 室内装飾
A10: 3-1 | B10: 一般印刷（商業印刷）
A11: 3-2 | B11: 一般印刷（頁物・出版印刷）
A12: 3-3 | B12: 事務用印刷
... A77: 16-5 | B77: その他

Sheet 業態カード
B2: ① 入札参加登録状況 | K2: 名取市独自様式 １－３ | AA2: （市記載欄） 承認№ | AC2: =入力内容集計表!AB2 -> 0
K3: 令和９・１０年度 物品・役務 業態カード
C4: 1 新規
C5: =入力内容集計表!B2 -> 0 | E5: 承認番号 | H5: =入力内容集計表!A2 -> 0 | AJ5: 2 | BB5: 1
B6: ② 申請者（本店) | C6: フリガナ | E6: =入力内容集計表!C2 -> 0 | S6: ⑥ 売上高の状況（直前２年間平均売上高） ※税別・単位：千円
S7: 品目・営業内容等 | AA7: 金額Ａ | AE7: 金額Ｂ
C8: 商号又は 名 称 | E8: =入力内容集計表!D2 -> 0 | AA8: （会社全体） | AE8: （受任機関分）
S9: =入力内容集計表!AR2 -> 0 | AA9: =入力内容集計表!AS2 -> 0 | AD9: 千円 | AE9: =入力内容集計表!AT2 -> 0 | AH9: 千円
C11: 本 店 所在地等 | E11: 〒 | F11: =入力内容集計表!E2 -> - | L11: ﾒｰﾙ | M11: =入力内容集計表!I2 -> 0 | S11: =入力内容集計表!AU2 -> 0 | AA11: =入力内容集計表!AV2 -> 0 | AD11: 千円 | AE11: =入力内容集計表!AW2 -> 0 | AH11: 千円
E12: =入力内容集計表!F2
S13: =入力内容集計表!AX2 -> 0 | AA13: =入力内容集計表!AY2 -> 0 | AD13: 千円 | AE13: =入力内容集計表!AZ2 -> 0 | AH13: 千円
E15: TEL. | G15: =入力内容集計表!G2 -> 0 | L15: FAX. | N15: =入力内容集計表!H2 -> 0 | S15: 合計 | AA15: =入力内容集計表!BA2 -> 0 | AD15: 千円 | AE15: =入力内容集計表!BB2 -> 0 | AH15: 千円
C16: 代表者の 職・氏名 | E16: 職名 | F16: =入力内容集計表!J2 -> 0 | K16: ﾌﾘｶﾞﾅ | L16: =入力内容集計表!K2 -> 0
K17: 氏名 | L17: =入力内容集計表!L2 -> 0 | S17: ⑦ 取引希望営業種目（希望順に）
B19: ③受任者（支店など) | C19: 受任機関 名 称 | E19: =入力内容集計表!M2 | S19: 大分類 | W19: 小分類 | AA19: 品 名
S20: =入力内容集計表!BC2 -> 0 | T20: =入力内容集計表!BD2 | W20: =入力内容集計表!BE2 -> 0 | X20: =入力内容集計表!BF2 | AA20: =入力内容集計表!BG2 -> 0 | AJ20: 5 | AK20: 5 | AL20: OK
C22: 受任機関 所在地等 | E22: 〒 | F22: =入力内容集計表!N2 -> - | L22: ﾒｰﾙ | M22: =入力内容集計表!R2 -> 0 | S22: =入力内容集計表!BH2 -> 0 | T22: =入力内容集計表!BI2 | W22: =入力内容集計表!BJ2 -> 0 | X22: =入力内容集計表!BK2 | AA22: =入力内容集計表!BL2 -> 0 | AJ22: 5 | AK22: 5 | AL22: OK
E23: =入力内容集計表!O2
S24: =入力内容集計表!BM2 -> 0 | T24: =入力内容集計表!BN2 | W24: =入力内容集計表!BO2 -> 0 | X24: =入力内容集計表!BP2 | AA24: =入力内容集計表!BQ2 -> 0 | AJ24: 5 | AK24: 5 | AL24: OK
E26: TEL. | G26: =入力内容集計表!P2 -> 0 | L26: FAX. | N26: =入力内容集計表!Q2 -> 0 | S26: =入力内容集計表!BR2 -> 0 | T26: =入力内容集計表!BS2 | W26: =入力内容集計表!BT2 -> 0 | X26: =入力内容集計表!BU2 | AA26: =入力内容集計表!BV2 -> 0 | AJ26: 8 | AK26: 8 | AL26: OK
C27: 受任者の 職・氏名 | E27: 職名 | F27: =入力内容集計表!S2 -> 0 | K27: ﾌﾘｶﾞﾅ | L27: =入力内容集計表!T2 -> 0
K28: 氏名 | L28: =入力内容集計表!U2 -> 0 | S28: =入力内容集計表!BW2 -> 0 | T28: =入力内容集計表!BX2 | W28: =入力内容集計表!BY2 -> 0 | X28: =入力内容集計表!BZ2 | AA28: =入力内容集計表!CA2 -> 0 | AJ28: 14 | AK28: 14 | AL28: OK
B30: ④ 希望連絡先 | E30: TEL. | G30: =入力内容集計表!V2 -> 0 | L30: FAX. | N30: =入力内容集計表!W2 -> 0 | S30: =入力内容集計表!CB2 -> 0 | T30: =入力内容集計表!CC2 | W30: =入力内容集計表!CD2 -> 0 | X30: =入力内容集計表!CE2 | AA30: =入力内容集計表!CF2 -> 0 | AJ30: 15 | AK30: 15 | AL30: OK
B32: ⑤ 許可・認可・登録等の状況 | S32: =入力内容集計表!CG2 -> 0 | T32: =入力内容集計表!CH2 | W32: =入力内容集計表!CI2 -> 0 | X32: =入力内容集計表!CJ2 | AA32: =入力内容集計表!CK2 -> 0 | AJ32: 15 | AK32: 15 | AL32: OK
B33: 許可等の名称 | J33: 登録年月日 | P33: 許可等番号
B34: =入力内容集計表!AD2 -> 0 | J34: =入力内容集計表!AC2 -> 0 | P34: =入力内容集計表!AE2 -> 0 | S34: =入力内容集計表!CL2 -> 0 | T34: =入力内容集計表!CM2 | W34: =入力内容集計表!CN2 -> 0 | X34: =入力内容集計表!CO2 | AA34: =入力内容集計表!CP2 -> 0 | AJ34: 16 | AK34: 16 | AL34: OK
B36: =入力内容集計表!AG2 -> 0 | J36: =入力内容集計表!AF2 -> 0 | P36: =入力内容集計表!AH2 -> 0 | S36: =入力内容集計表!CQ2 -> 0 | T36: =入力内容集計表!CR2 | W36: =入力内容集計表!CS2 -> 0 | X36: =入力内容集計表!CT2 | AA36: =入力内容集計表!CU2 -> 0 | AJ36: 0 | AK36: 0 | AL36: OK
B38: =入力内容集計表!AJ2 -> 0 | J38: =入力内容集計表!AI2 -> 0 | P38: =入力内容集計表!AK2 -> 0 | S38: =入力内容集計表!CV2 -> 0 | T38: =入力内容集計表!CW2 | W38: =入力内容集計表!CX2 -> 0 | X38: =入力内容集計表!CY2 | AA38: =入力内容集計表!CZ2 -> 0 | AJ38: 0 | AK38: 0 | AL38: OK
B40: =入力内容集計表!AM2 -> 0 | J40: =入力内容集計表!AL2 -> 0 | P40: =入力内容集計表!AN2 -> 0 | S40: =入力内容集計表!DA2 -> 0 | T40: =入力内容集計表!DB2 | W40: =入力内容集計表!DC2 -> 0 | X40: =入力内容集計表!DD2 | AA40: =入力内容集計表!DE2 -> 0 | AJ40: 0 | AK40: 0 | AL40: OK
B42: =入力内容集計表!AP2 -> 0 | J42: =入力内容集計表!AO2 -> 0 | P42: =入力内容集計表!AQ2 -> 0 | S42: ⑧ 資本金 | V42: =入力内容集計表!Y2 -> 0 | Y42: 千円 | AA42: ⑨ 営業年数 | AD42: =入力内容集計表!X2 -> 0 | AG42: 年
B44: ⑩ 主 要 取 扱 品 目 名 表
B46: ※分類番号は申請種目表より入力して下さい。なお品名は取引希望営業種目の希望順に、主たるものからできるだけ詳しく入力して下さい。
B47: （契約事務の参考となるので、できるだけ多くの取扱商品名を記入願います。）
B48: 大分類 番 号 | D48: 小分類 番 号 | F48: 品 名 | O48: メーカー名 | S48: 大分類 番 号 | U48: 小分類 番 号 | W48: 品 名 | AF48: メーカー名
B50: =入力内容集計表!DF2 -> 0 | C50: =入力内容集計表!DG2 | D50: =入力内容集計表!DH2 -> 0 | E50: =入力内容集計表!DI2 | F50: =入力内容集計表!DJ2 -> 0 | O50: =入力内容集計表!DK2 -> 0 | S50: =入力内容集計表!GR2 -> 0 | T50: =入力内容集計表!GS2 | U50: =入力内容集計表!GT2 -> 0 | V50: =入力内容集計表!GU2 | W50: =入力内容集計表!GV2 -> 0 | AF50: =入力内容集計表!GW2 -> 0 | AJ50: 5 | AK50: 5 | AL50: OK | AS50: 0 | AT50: 0 | AU50: OK
B52: =入力内容集計表!DL2 -> 0 | C52: =入力内容集計表!DM2 | D52: =入力内容集計表!DN2 -> 0 | E52: =入力内容集計表!DO2 | F52: =入力内容集計表!DP2 -> 0 | O52: =入力内容集計表!DQ2 -> 0 | S52: =入力内容集計表!GX2 -> 0 | T52: =入力内容集計表!GY2 | U52: =入力内容集計表!GZ2 -> 0 | V52: =入力内容集計表!HA2 | W52: =入力内容集計表!HB2 -> 0 | AF52: =入力内容集計表!HC2 -> 0 | AJ52: 5 | AK52: 5 | AL52: OK | AS52: 0 | AT52: 0 | AU52: OK
B54: =入力内容集計表!DR2 -> 0 | C54: =入力内容集計表!DS2 | D54: =入力内容集計表!DT2 -> 0 | E54: =入力内容集計表!DU2 | F54: =入力内容集計表!DV2 -> 0 | O54: =入力内容集計表!DW2 -> 0 | S54: =入力内容集計表!HD2 -> 0 | T54: =入力内容集計表!HE2 | U54: =入力内容集計表!HF2 -> 0 | V54: =入力内容集計表!HG2 | W54: =入力内容集計表!HH2 -> 0 | AF54: =入力内容集計表!HI2 -> 0 | AJ54: 5 | AK54: 5 | AL54: OK | AS54: 0 | AT54: 0 | AU54: OK
B56: =入力内容集計表!DX2 -> 0 | C56: =入力内容集計表!DY2 | D56: =入力内容集計表!DZ2 -> 0 | E56: =入力内容集計表!EA2 | F56: =入力内容集計表!EB2 -> 0 | O56: =入力内容集計表!EC2 -> 0 | S56: =入力内容集計表!HJ2 -> 0 | T56: =入力内容集計表!HK2 | U56: =入力内容集計表!HL2 -> 0 | V56: =入力内容集計表!HM2 | W56: =入力内容集計表!HN2 -> 0 | AF56: =入力内容集計表!HO2 -> 0 | AJ56: 0 | AK56: 0 | AL56: OK | AS56: 0 | AT56: 0 | AU56: OK
B58: =入力内容集計表!ED2 -> 0 | C58: =入力内容集計表!EE2 | D58: =入力内容集計表!EF2 -> 0 | E58: =入力内容集計表!EG2 | F58: =入力内容集計表!EH2 -> 0 | O58: =入力内容集計表!EI2 -> 0 | S58: =入力内容集計表!HP2 -> 0 | T58: =入力内容集計表!HQ2 | U58: =入力内容集計表!HR2 -> 0 | V58: =入力内容集計表!HS2 | W58: =入力内容集計表!HT2 -> 0 | AF58: =入力内容集計表!HU2 -> 0 | AJ58: 8 | AK58: 8 | AL58: OK | AS58: 0 | AT58: 0 | AU58: OK
B60: =入力内容集計表!EJ2 -> 0 | C60: =入力内容集計表!EK2 | D60: =入力内容集計表!EL2 -> 0 | E60: =入力内容集計表!EM2 | F60: =入力内容集計表!EN2 -> 0 | O60: =入力内容集計表!EO2 -> 0 | S60: =入力内容集計表!HV2 -> 0 | T60: =入力内容集計表!HW2 | U60: =入力内容集計表!HX2 -> 0 | V60: =入力内容集計表!HY2 | W60: =入力内容集計表!HZ2 -> 0 | AF60: =入力内容集計表!IA2 -> 0 | AJ60: 14 | AK60: 14 | AL60: OK | AS60: 0 | AT60: 0 | AU60: OK
...
