Workbook
Name サービス業: #REF!
Name サービス業: #REF!
Name その他物品: #REF!
Name その他物品: #REF!
Name 衣料・繊維: #REF!
Name 衣料・繊維: #REF!
Name 医療衛生: #REF!
Name 医療衛生: #REF!
Name 印刷製本: #REF!
Name 印刷製本: #REF!
Name 機械器具: #REF!
Name 機械器具: #REF!
Name 資材: #REF!
Name 資材: #REF!
Name 事務機器: #REF!
Name 事務機器: #REF!
Name 消防保安・標識類: #REF!
Name 消防保安・標識類: #REF!
Name 精密機械: #REF!
Name 精密機械: #REF!
Name 賃貸借: #REF!
Name 賃貸借: #REF!
Name 電気機械機器: #REF!
Name 電気機械機器: #REF!
Name 日用品: #REF!
Name 日用品: #REF!
Name 燃料: #REF!
Name 燃料: #REF!
Name 役務提供: #REF!
Name 役務提供: #REF!
Name 輸送機器: #REF!
Name 輸送機器: #REF!

Sheet 入力シート
A1: 【入力シート】
A2: 令和９・１０年度 名取市競争入札参加資格審査申請入力シート 【 建設コンサルタント等業務 用 】
A5: ※「令和９・１０年度 名取市競争入札参加資格審査申請要領」を熟読のうえ、本シートの必要箇所への入力をお願いします。 入力された内容は、別シート「業態カード」に反映されます。提出前に入力の内容が間違いないか等確認してください。
A8: １ 基本情報入力欄
A9: １ 申請年月日（令和８年１１月２日以降の日付で、本シート作成日を入力してください。）
A10: 申請年月日 | F10: 令和 | K10: 年 | O10: 月 | S10: 日
A12: ２ 作成担当者情報（本申請の担当者様の情報を入力してください。入力内容に不明な点があった場合は、こちらへ連絡いたします。
A13: 会 社 名 | F13: 注意事項 | I13: 作成されている方の会社名を入力してください。
F15: 入 力 欄
A17: 部 署 名 | F17: 注意事項 | I17: 部署等がない方は「なし」と入力してください。
F19: 入 力 欄
A21: 氏 名 | F21: 注意事項 | I21: 姓と名の間は１文字スペースを空けて入力してください。
F23: 入 力 欄
A25: 氏 名 （フリガナ） | F25: 注意事項 | I25: 姓と名の間は１文字スペースを空けて入力してください。
F27: 入 力 欄
A29: メールアドレス | F29: 注意事項 | I29: 本申請の入力内容等に不明な内容があった場合等に使用させていただきます。
F31: 入 力 欄
A33: 電話番号 | F33: 注意事項 | I33: 日中繋がる番号であれば、携帯電話の番号でも構いません。
F35: 入 力 欄
A37: ＦＡＸ番号 | F37: 注意事項 | I37: ＦＡＸ番号がない場合は、「なし」と入力してください。
F39: 入 力 欄
A42: ２ 会社基本情報
A43: １ 本社・本店情報
A44: 申請区分 | F44: 注意事項 | I44: 名取市で初めて登録する場合は「新規」、過去に登録したことがあれば「更新」と入力してください。 「更新」の場合、登録時の承認番号を入力をしてください。不明な場合は「不明」と入力してください。
F46: 入 力 欄 | I46: 新規or更新 | Y46: 承認番号
A48: 名 称 | F48: 注意事項 | I48: 会社組織の種別（株式会社 等）は略さずに入力してください。 会社組織の種別と会社名の間は、スペースを空けないでください。
F50: 入 力 欄
A52: 名 称 （フリガナ） | F52: 注意事項 | I52: 会社組織の種別（カブシキガイシャ 等）は入力しないでください。
F54: 入 力 欄
A56: 郵便番号 | F56: 注意事項 | I56: 郵便区番号（３桁）、町域番号（４桁）をすべて入力してください。
F58: 入 力 欄 | N58: －
A60: 住 所 （都道府県名） | F60: 注意事項 | I60: ドロップダウンリストから都道府県を選択してください。
F62: 入 力 欄
A64: 住 所 （市区町村以降） | F64: 注意事項 | I64: 都道府県名以降について入力してください。肩書（建物名等）を入力する場合は、住所の間に１文字スペースを空けてください。
F66: 入 力 欄
A68: 代表者肩書 | F68: 注意事項 | I68: 法人の場合は、会社組織等の代表者の職名を入力、個人の場合は任意の肩書を入力してください。
F70: 入 力 欄
A72: 代表者名 | F72: 注意事項 | I72: 姓と名の間は１文字スペースを空けて入力してください。
F74: 入 力 欄
A76: 代表者名 （フリガナ） | F76: 注意事項 | I76: 姓と名の間は１文字スペースを空けて入力してください。
F78: 入 力 欄
A80: 電話番号 | F80: 注意事項 | I80: 入札参加資格を有している間の問い合わせ先となります。個人の携帯電話は避けてください。
F82: 入 力 欄
A84: ＦＡＸ番号 | F84: 注意事項 | I84: ＦＡＸ番号がない場合は、「なし」と入力してください。
F86: 入 力 欄
A88: メールアドレス | F88: 注意事項 | I88: 入札参加資格を有している間の問い合わせ先となります。個人のアドレスは避けてください。
F90: 入 力 欄
A92: ２ 受任登録（支店等）
A93: 受任有無 | F93: 注意事項 | I93: ドロップダウンリストから受任登録の有無を選択してください。 ※受任登録をされない方は、「無」を選択していただき、「３ その他」へ進んでください。
F95: 入 力 欄 | I95: 有or無
A97: 名 称 | F97: 注意事項 | I97: 支店、営業所名のみ入力してください。 ※本社・本店の名称が自動で引用されます。名称が違う場合は適宜修正してください。
F99: 入 力 欄 | I99: =I50&"" | X99: 支店、営業所名
A101: 郵便番号 | F101: 注意事項 | I101: 郵便区番号（３桁）、町域番号（４桁）をすべて入力してください。
F103: 入 力 欄 | N103: －
A105: 住 所 （都道府県名） | F105: 注意事項 | I105: ドロップダウンリストから都道府県を選択してください。
F107: 入 力 欄
A109: 住 所 （市区町村以降） | F109: 注意事項 | I109: 都道府県名以降について入力してください。肩書（建物名等）を入力する場合は、住所の間に１文字スペースを空けてください。
F111: 入 力 欄
A113: 代表者肩書 | F113: 注意事項 | I113: 法人の場合は、会社組織等の代表者の職名を入力、個人の場合は任意の肩書を入力してください。
F115: 入 力 欄
A117: 代表者名 | F117: 注意事項 | I117: 姓と名の間は１文字スペースを空けて入力してください。
F119: 入 力 欄
A121: 代表者名 （フリガナ） | F121: 注意事項 | I121: 姓と名の間は１文字スペースを空けて入力してください。
F123: 入 力 欄
A125: 電話番号 | F125: 注意事項 | I125: 入札参加資格を有している間の問い合わせ先となります。個人の携帯電話は避けてください。
F127: 入 力 欄
A129: ＦＡＸ番号 | F129: 注意事項 | I129: ＦＡＸ番号がない場合は、「なし」と入力してください。
F131: 入 力 欄
A133: メールアドレス | F133: 注意事項 | I133: 入札参加資格を有している間の問い合わせ先となります。個人のアドレスは避けてください。
F135: 入 力 欄
A137: ３ その他
A138: 希望連絡先 （電話番号） | F138: 注意事項 | I138: 入札参加資格を有している間の問い合わせ先となります。個人の携帯電話は避けてください。
F140: 入 力 欄
A142: 希望連絡先 （ＦＡＸ番号） | F142: 注意事項 | I142: ＦＡＸ番号がない場合は、「なし」と入力してください。
F144: 入 力 欄
A146: 営業年数 | F146: 注意事項 | I146: 令和８年１１月２日時点での営業年数を入力してください。 ※年数のみ入力してください。
F148: 入 力 欄
A150: 資 本 金 | F150: 注意事項 | I150: 登記に記載のある資本金額を入力してください。単位は（千円）となります。
F152: 入 力 欄 | S152: 千円
A154: 特別徴収 実施状況 | F154: 注意事項 | I154: 名取市内に居住する従業員の有無をドロップダウンリストから選択してください。 「有」の場合、特別徴収をしているかドロップダウンリストから選択してください。「無」の場合は、特別徴収の有無については入力不要となります。
F156: 入 力 欄 | I156: 有or無 | Y156: 実施or未実施
A158: 住 所 （特殊事情） | F158: 注意事項 | I158: 本社・本店（主たる営業所）所在地と、登記簿上の本店所在地が異なる場合は、登記簿上の住所を下記に都道府県名からすべて入力してください。※（登）〇〇県〇〇市〇〇 と入力してください。
F160: 入 力 欄
A162: ３ 会社個別情報
A163: １ 登録を受けている事業の状況
A164: 許可等情報 | F164: 注意事項 | I164: 許可（登録）証明書の写しの提出が必要になります。 ※番号「２」建築士事務所登録を入力する場合、「〇」部分に「１」か「２」を入力してください。
F166: 番号 | I166: 許可等の名称 | U166: 登録年月日 | AE166: 許可等番号
F168: 1 | I168: 測量業者登録
F170: 2 | I170: 〇 | K170: 級 | M170: 建築士事務所登録
F172: 3 | I172: 地質調査業者登録
F174: 4 | I174: 補償コンサルタント登録
F176: 5 | I176: 不動産鑑定士
F178: 6 | I178: 土地家屋調査士
F180: 7 | I180: 建設・土木コンサルタント登録
A182: ２ 建設・土木、補償コンサルタントの登録部門名
A183: 部門名称 | F183: 注意事項 | I183: 建設・土木、補償コンサルタントの登録を受けている場合に入力してください。
F185: 番号 | I185: 部門の名称 | W185: 番号 | Z185: 部門の名称
F187: 1 | W187: 6
F189: 2 | W189: 7
F191: 3 | W191: 8
...

Sheet 入力例
A1: 【入力例】
A2: 令和９・１０年度 名取市競争入札参加資格審査申請入力シート 【 建設コンサルタント等業務 用 】
A5: ※「令和９・１０年度 名取市競争入札参加資格審査申請要領」を熟読のうえ、本シートの必要箇所への入力をお願いします。 入力された内容は、別シート「業態カード」に反映されます。提出前に入力の内容が間違いないか等確認してください。
A8: １ 基本情報入力欄
A9: １ 申請年月日（令和８年１１月２日以降の日付で、本シート作成日を入力してください。）
A10: 申請年月日 | F10: 令和 | I10: 8 | K10: 年 | M10: 11 | O10: 月 | Q10: 2 | S10: 日
A12: ２ 作成担当者情報（本申請の担当者様の情報を入力してください。入力内容に不明な点があった場合は、こちらへ連絡いたします。
A13: 会 社 名 | F13: 注意事項 | I13: 作成されている方の会社名を入力してください。
F15: 入 力 欄 | I15: 株式会社なとりし
A17: 部 署 名 | F17: 注意事項 | I17: 部署等がない方は「なし」と入力してください。
F19: 入 力 欄 | I19: なし
A21: 氏 名 | F21: 注意事項 | I21: 姓と名の間は１文字スペースを空けて入力してください。
F23: 入 力 欄 | I23: 名取 次郎
A25: 氏 名 （フリガナ） | F25: 注意事項 | I25: 姓と名の間は１文字スペースを空けて入力してください。
F27: 入 力 欄 | I27: ナトリ ジロウ
A29: メールアドレス | F29: 注意事項 | I29: 本申請の入力内容等に不明な内容があった場合等に使用させていただきます。
F31: 入 力 欄 | I31: natori@miyagi.co.jp
A33: 電話番号 | F33: 注意事項 | I33: 日中繋がる番号であれば、携帯電話の番号でも構いません。
F35: 入 力 欄 | I35: 022-384-2111
A37: ＦＡＸ番号 | F37: 注意事項 | I37: ＦＡＸ番号がない場合は、「なし」と入力してください。
F39: 入 力 欄 | I39: 022-384-9680
A42: ２ 会社基本情報
A43: １ 本社・本店情報
A44: 申請区分 | F44: 注意事項 | I44: 名取市で初めて登録する場合は「新規」、過去に登録したことがあれば「更新」と入力してください。 「更新」の場合、登録時の承認番号を入力をしてください。不明な場合は「不明」と入力してください。
F46: 入 力 欄 | I46: 新規or更新 | S46: 新規 | Y46: 承認番号
A48: 名 称 | F48: 注意事項 | I48: 会社組織の種別（株式会社 等）は略さずに入力してください。 会社組織の種別と会社名の間は、スペースを空けないでください。
F50: 入 力 欄 | I50: 株式会社なとりし
A52: 名 称 （フリガナ） | F52: 注意事項 | I52: 会社組織の種別（カブシキガイシャ 等）は入力しないでください。
F54: 入 力 欄 | I54: ナトリシ
A56: 郵便番号 | F56: 注意事項 | I56: 郵便区番号（３桁）、町域番号（４桁）をすべて入力してください。
F58: 入 力 欄 | I58: 981 | N58: － | P58: 1292
A60: 住 所 （都道府県名） | F60: 注意事項 | I60: ドロップダウンリストから都道府県を選択してください。
F62: 入 力 欄 | I62: 宮城県
A64: 住 所 （市区町村以降） | F64: 注意事項 | I64: 都道府県名以降について入力してください。肩書（建物名等）を入力する場合は、住所の間に１文字スペースを空けてください。
F66: 入 力 欄 | I66: 名取市増田字柳田８０
A68: 代表者肩書 | F68: 注意事項 | I68: 法人の場合は、会社組織等の代表者の職名を入力、個人の場合は任意の肩書を入力してください。
F70: 入 力 欄 | I70: 代表取締役
A72: 代表者名 | F72: 注意事項 | I72: 姓と名の間は１文字スペースを空けて入力してください。
F74: 入 力 欄 | I74: 宮城 太郎
A76: 代表者名 （フリガナ） | F76: 注意事項 | I76: 姓と名の間は１文字スペースを空けて入力してください。
F78: 入 力 欄 | I78: ミヤギ タロウ
A80: 電話番号 | F80: 注意事項 | I80: 入札参加資格を有している間の問い合わせ先となります。個人の携帯電話は避けてください。
F82: 入 力 欄 | I82: 022-384-2111
A84: ＦＡＸ番号 | F84: 注意事項 | I84: ＦＡＸ番号がない場合は、「なし」と入力してください。
F86: 入 力 欄 | I86: 022-384-9680
A88: メールアドレス | F88: 注意事項 | I88: 入札参加資格を有している間の問い合わせ先となります。個人のアドレスは避けてください。
F90: 入 力 欄 | I90: natori@miyagi.co.jp
A92: ２ 受任登録（支店等）
A93: 受任有無 | F93: 注意事項 | I93: ドロップダウンリストから受任登録の有無を選択してください。 ※受任登録をされない方は、「無」を選択していただき、「３ その他」へ進んでください。
F95: 入 力 欄 | I95: 有or無 | S95: 有
A97: 名 称 | F97: 注意事項 | I97: 支店、営業所名のみ入力してください。 ※本社・本店の名称が自動で引用されます。名称が違う場合は適宜修正してください。
F99: 入 力 欄 | I99: =I50&"" -> 株式会社なとりし | X99: 支店、営業所名 | AE99: 名取支店
A101: 郵便番号 | F101: 注意事項 | I101: 郵便区番号（３桁）、町域番号（４桁）をすべて入力してください。
F103: 入 力 欄 | I103: 981 | N103: － | P103: 1224
A105: 住 所 （都道府県名） | F105: 注意事項 | I105: ドロップダウンリストから都道府県を選択してください。
F107: 入 力 欄 | I107: 宮城県
A109: 住 所 （市区町村以降） | F109: 注意事項 | I109: 都道府県名以降について入力してください。肩書（建物名等）を入力する場合は、住所の間に１文字スペースを空けてください。
F111: 入 力 欄 | I111: 名取市増田字柳田570-2 仙台法務局名取出張所2階
A113: 代表者肩書 | F113: 注意事項 | I113: 法人の場合は、会社組織等の代表者の職名を入力、個人の場合は任意の肩書を入力してください。
F115: 入 力 欄 | I115: 支店長
A117: 代表者名 | F117: 注意事項 | I117: 姓と名の間は１文字スペースを空けて入力してください。
F119: 入 力 欄 | I119: 増田 三郎
A121: 代表者名 （フリガナ） | F121: 注意事項 | I121: 姓と名の間は１文字スペースを空けて入力してください。
F123: 入 力 欄 | I123: マスダ サブロウ
A125: 電話番号 | F125: 注意事項 | I125: 入札参加資格を有している間の問い合わせ先となります。個人の携帯電話は避けてください。
F127: 入 力 欄 | I127: 022-724-7169
A129: ＦＡＸ番号 | F129: 注意事項 | I129: ＦＡＸ番号がない場合は、「なし」と入力してください。
F131: 入 力 欄 | I131: 022-384-9690
A133: メールアドレス | F133: 注意事項 | I133: 入札参加資格を有している間の問い合わせ先となります。個人のアドレスは避けてください。
F135: 入 力 欄 | I135: masuda@miyagi.co.jp
A137: ３ その他
A138: 希望連絡先 （電話番号） | F138: 注意事項 | I138: 入札参加資格を有している間の問い合わせ先となります。個人の携帯電話は避けてください。
F140: 入 力 欄 | I140: 022-384-2111
A142: 希望連絡先 （ＦＡＸ番号） | F142: 注意事項 | I142: ＦＡＸ番号がない場合は、「なし」と入力してください。
F144: 入 力 欄 | I144: 022-384-9680
A146: 営業年数 | F146: 注意事項 | I146: 令和８年１１月２日時点での営業年数を入力してください。 ※年数のみ入力してください。
F148: 入 力 欄 | I148: 10
A150: 資 本 金 | F150: 注意事項 | I150: 登記に記載のある資本金額を入力してください。単位は（千円）となります。
F152: 入 力 欄 | I152: 5000 | S152: 千円
A154: 特別徴収 実施状況 | F154: 注意事項 | I154: 名取市内に居住する従業員の有無をドロップダウンリストから選択してください。 「有」の場合、特別徴収をしているかドロップダウンリストから選択してください。「無」の場合は、特別徴収の有無については入力不要となります。
F156: 入 力 欄 | I156: 有or無 | S156: 有 | Y156: 実施or未実施 | AI156: 実施
A158: 住 所 （特殊事情） | F158: 注意事項 | I158: 本社・本店（主たる営業所）所在地と、登記簿上の本店所在地が異なる場合は、登記簿上の住所を下記に都道府県名からすべて入力してください。※（登）〇〇県〇〇市〇〇 と入力してください。
F160: 入 力 欄
A162: ３ 会社個別情報
A163: １ 登録を受けている事業の状況
A164: 許可等情報 | F164: 注意事項 | I164: 許可（登録）証明書の写しの提出が必要になります。 ※番号「２」建築士事務所登録を入力する場合、「〇」部分に「１」か「２」を入力してください。
F166: 番号 | I166: 許可等の名称 | U166: 登録年月日 | AE166: 許可等番号
F168: 1 | I168: 測量業者登録 | U168: 45483 | AE168: 第（5）-00000号
F170: 2 | I170: 〇 | K170: 級 | M170: 建築士事務所登録
F172: 3 | I172: 地質調査業者登録
F174: 4 | I174: 補償コンサルタント登録
F176: 5 | I176: 不動産鑑定士
F178: 6 | I178: 土地家屋調査士
F180: 7 | I180: 建設・土木コンサルタント登録 | U180: 45483 | AE180: 建05第000000号
A182: ２ 建設・土木、補償コンサルタントの登録部門名
A183: 部門名称 | F183: 注意事項 | I183: 建設・土木、補償コンサルタントの登録を受けている場合に入力してください。
F185: 番号 | I185: 部門の名称 | W185: 番号 | Z185: 部門の名称
F187: 1 | I187: 道路部門 | W187: 6
F189: 2 | W189: 7
F191: 3 | W191: 8
...

Sheet 入力内容集計表
A1: 承認番号 | B1: 区分 | C1: 本店名称(ﾌﾘｶﾞﾅ) | D1: 本店名称 | E1: 本店郵便番号 | F1: 本店所在地 | G1: 本店電話番号 | H1: 本店FAX番号 | I1: 本店ｱﾄﾞﾚｽ | J1: 本店代表者肩書 | K1: 本店代表者名(ﾌﾘｶﾞﾅ) | L1: 本店代表者名 | M1: 受任機関名称 | N1: 受任機関郵便番号 | O1: 受任機関所在地 | P1: 受任機関電話番号 | Q1: 受任機関FAX番号 | R1: 受任機関ｱﾄﾞﾚｽ | S1: 受任機関代表者肩書 | T1: 受任機関代表者名(ﾌﾘｶﾞﾅ) | U1: 受任機関代表者名 | V1: 希望電話番号 | W1: 希望FAX番号 | X1: 営業年数 | Y1: 資本金 | Z1: 名取市居住 | AA1: 特別徴収 | AB1: 住所（特殊） | AC1: 測量業者登録登録年月日 | AD1: 測量業者登録登録番号 | AE1: 建築士事務所１級２級 | AF1: 建築士事務所登録年月日 | AG1: 建築士事務所登録番号 | AH1: 地質調査登録年月日 | AI1: 地質調査登録番号 | AJ1: 補償コンサル登録年月日 | AK1: 補償コンサル登録番号 | AL1: 不動産鑑定士登録年月日 | AM1: 不動産鑑定士登録番号 | AN1: 土地家屋調査士登録年月日 | AO1: 土地家屋調査士登録番号 | AP1: 建設コンサル登録年月日 | AQ1: 建設コンサル登録番号 | AR1: コンサル登録部門１ | AS1: コンサル登録部門２ | AT1: コンサル登録部門３ | AU1: コンサル登録部門４ | AV1: コンサル登録部門５ | AW1: コンサル登録部門６ | AX1: コンサル登録部門７ | AY1: コンサル登録部門８ | AZ1: コンサル登録部門９ | BA1: コンサル登録部門１０ | BB1: 売上１ 種目番号 | BC1: 売上１ 種目名称 | BD1: 売上１ 全体 | BE1: 売上１ 受任 | BF1: 売上２ 種目番号 | BG1: 売上２ 種目名称 | BH1: 売上２ 全体 | BI1: 売上２ 受任 | BJ1: 売上３ 種目番号 | BK1: 売上３ 種目名称 | BL1: 売上３ 全体 | BM1: 売上３ 受任 | BN1: 売上４ 種目番号 | BO1: 売上４ 種目名称 | BP1: 売上４ 全体 | BQ1: 売上４ 受任 | BR1: 売上５ 種目番号 | BS1: 売上５ 種目名称 | BT1: 売上５ 全体 | BU1: 売上５ 受任 | BV1: その他売上 全体 | BW1: その他売上 受任 | BX1: 売上合計 全体 | BY1: 売上合計 受任 | BZ1: 申請種目１ 番号 | CA1: 申請種目１ 種目 | CB1: 申請種目１ 分野 | CC1: 申請種目２ 番号 | CD1: 申請種目２ 種目 | CE1: 申請種目２ 分野 | CF1: 申請種目３ 番号 | CG1: 申請種目３ 種目 | CH1: 申請種目３ 分野 | CI1: 申請種目４ 番号 | CJ1: 申請種目４ 種目 | CK1: 申請種目４ 分野 | CL1: 申請種目５ 番号 | CM1: 申請種目５ 種目 | CN1: 申請種目５ 分野 | CO1: 技術職員 全体 | CP1: 技術職員 受任 | CQ1: 事務員他 全体 | CR1: 事務員他 受任 | CS1: 職員数 全体 | CT1: 職員数 受任 | CU1: 一級建築士 全体 | CV1: 一級建築士 受任 | CW1: 二級建築士 全体 | CX1: 二級建築士 受任 | CY1: 建築設備資格者 全体 | CZ1: 建築設備資格者 受任 | DA1: 建築積算資格者 全体 | DB1: 建築積算資格者 受任 | DC1: 一級土木施工管理技士 全体 | DD1: 一級土木施工管理技士 受任 | DE1: 二級土木施工管理技士 全体 | DF1: 二級土木施工管理技士 受任 | DG1: 測量士 全体 | DH1: 測量士 受任 | DI1: 測量士補 全体 | DJ1: 測量士補 受任 | DK1: 環境測量士 全体 | DL1: 環境測量士 受任 | DM1: 不動産鑑定士 全体 | DN1: 不動産鑑定士 受任 | DO1: 不動産鑑定士補 全体 | DP1: 不動産鑑定士補 受任 | DQ1: 土地家屋調査士 全体 | DR1: 土地家屋調査士 受任 | DS1: 司法書士 全体 | DT1: 司法書士 受任 | DU1: 技術士（建設） 全体 | DV1: 技術士（建設） 受任 | DW1: 技術士（農業） 全体 | DX1: 技術士（農業） 受任 | DY1: 技術士（林業） 全体 | DZ1: 技術士（林業） 受任 | EA1: 技術士（水産） 全体 | EB1: 技術士（水産） 受任 | EC1: 技術士（水道） 全体 | ED1: 技術士（水道） 受任 | EE1: 技術士（衛生） 全体 | EF1: 技術士（衛生） 受任 | EG1: 技術士（電気） 全体 | EH1: 技術士（電気） 受任 | EI1: 技術士（機械） 全体 | EJ1: 技術士（機械） 受任 | EK1: 技術士（情報） 全体 | EL1: 技術士（情報） 受任 | EM1: 技術士（地質） 全体 | EN1: 技術士（地質） 受任 | EO1: 第一種電気主任技術者 全体 | EP1: 第一種電気主任技術者 受任 | EQ1: 第一種伝送交換 全体 | ER1: 第一種伝送交換 受任 | ES1: 路線主任 全体 | ET1: 路線主任 受任 | EU1: ＲＣＣＭ 全体 | EV1: ＲＣＣＭ 受任 | EW1: 地質調査 全体 | EX1: 地質調査 受任 | EY1: 補償業務 全体 | EZ1: 補償業務 受任 | FA1: 公共用地 全体 | FB1: 公共用地 受任 | FC1: 官公庁１ | FD1: 官公庁１ 全体 | FE1: 官公庁１ 受任 | FF1: 官公庁２ | FG1: 官公庁２ 全体 | FH1: 官公庁２ 受任 | FI1: 官公庁３ | FJ1: 官公庁３ 全体 | FK1: 官公庁３ 受任 | FL1: 官公庁４ | FM1: 官公庁４ 全体 | FN1: 官公庁４ 受任 | FO1: その他官公庁 全体 | FP1: その他官公庁 受任 | FQ1: 合計 全体 | FR1: 合計 受任 | FS1: 会社ＰＲ等
A2: =入力シート!AI46 -> 0 | B2: =入力シート!S46 -> 0 | C2: =入力シート!I54 -> 0 | D2: =入力シート!I50 -> 0 | E2: =入力シート!I58&"-"&入力シート!P58 -> - | F2: =入力シート!I62&入力シート!I66 | G2: =入力シート!I82 -> 0 | H2: =入力シート!I86 -> 0 | I2: =入力シート!I90 -> 0 | J2: =入力シート!I70 -> 0 | K2: =入力シート!I78 -> 0 | L2: =入力シート!I74 -> 0 | M2: =入力シート!I99& 入力シート!AE99 | N2: =入力シート!I103&"-"&入力シート!P103 -> - | O2: =入力シート!I107&入力シート!I111 | P2: =入力シート!I127 -> 0 | Q2: =入力シート!I131 -> 0 | R2: =入力シート!I135 -> 0 | S2: =入力シート!I115 -> 0 | T2: =入力シート!I123 -> 0 | U2: =入力シート!I119 -> 0 | V2: =入力シート!I140 -> 0 | W2: =入力シート!I144 -> 0 | X2: =入力シート!I148 -> 0 | Y2: =入力シート!I152 -> 0 | Z2: =入力シート!S156 -> 0 | AA2: =入力シート!AI156 -> 0 | AB2: =入力シート!I160 -> 0 | AC2: =入力シート!U168 -> 0 | AD2: =入力シート!AE168 -> 0 | AE2: =入力シート!I170 -> 〇 | AF2: =入力シート!U170 -> 0 | AG2: =入力シート!AE170 -> 0 | AH2: =入力シート!U172 -> 0 | AI2: =入力シート!AE172 -> 0 | AJ2: =入力シート!U174 -> 0 | AK2: =入力シート!AE174 -> 0 | AL2: =入力シート!U176 -> 0 | AM2: =入力シート!AE176 -> 0 | AN2: =入力シート!U178 -> 0 | AO2: =入力シート!AE178 -> 0 | AP2: =入力シート!U180 -> 0 | AQ2: =入力シート!AE180 -> 0 | AR2: =入力シート!I187 -> 0 | AS2: =入力シート!I189 -> 0 | AT2: =入力シート!I191 -> 0 | AU2: =入力シート!I193 -> 0 | AV2: =入力シート!I195 -> 0 | AW2: =入力シート!Z187 -> 0 | AX2: =入力シート!Z189 -> 0 | AY2: =入力シート!Z191 -> 0 | AZ2: =入力シート!Z193 -> 0 | BA2: =入力シート!Z195 -> 0 | BB2: =入力シート!I202 -> 0 | BC2: =入力シート!L202 | BD2: =入力シート!U202 -> 0 | BE2: =入力シート!AE202 -> 0 | BF2: =入力シート!I204 -> 0 | BG2: =入力シート!L204 | BH2: =入力シート!U204 -> 0 | BI2: =入力シート!AE204 -> 0 | BJ2: =入力シート!I206 -> 0 | BK2: =入力シート!L206 | BL2: =入力シート!U206 -> 0 | BM2: =入力シート!AE206 -> 0 | BN2: =入力シート!I208 -> 0 | BO2: =入力シート!L208 | BP2: =入力シート!U208 -> 0 | BQ2: =入力シート!AE208 -> 0 | BR2: =入力シート!I210 -> 0 | BS2: =入力シート!L210 | BT2: =入力シート!U210 -> 0 | BU2: =入力シート!AE210 -> 0 | BV2: =入力シート!U212 -> 0 | BW2: =入力シート!AE212 -> 0 | BX2: =入力シート!U214 -> 0 | BY2: =入力シート!AE214 -> 0 | BZ2: =入力シート!I221 -> 0 | CA2: =入力シート!L221 | CB2: =入力シート!X221 -> 0 | CC2: =入力シート!I223 -> 0 | CD2: =入力シート!L223 | CE2: =入力シート!X223 -> 0 | CF2: =入力シート!I225 -> 0 | CG2: =入力シート!L225 | CH2: =入力シート!X225 -> 0 | CI2: =入力シート!I227 -> 0 | CJ2: =入力シート!L227 | CK2: =入力シート!X227 -> 0 | CL2: =入力シート!I229 -> 0 | CM2: =入力シート!L229 | CN2: =入力シート!X229 -> 0 | CO2: =入力シート!U236 -> 0 | CP2: =入力シート!AE236 -> 0 | CQ2: =入力シート!U238 -> 0 | CR2: =入力シート!AE238 -> 0 | CS2: =入力シート!U240 -> 0 | CT2: =入力シート!AE240 -> 0 | CU2: =入力シート!U247 -> 0 | CV2: =入力シート!AE247 -> 0 | CW2: =入力シート!U249 -> 0 | CX2: =入力シート!AE249 -> 0 | CY2: =入力シート!U251 -> 0 | CZ2: =入力シート!AE251 -> 0 | DA2: =入力シート!U253 -> 0 | DB2: =入力シート!AE253 -> 0 | DC2: =入力シート!U255 -> 0 | DD2: =入力シート!AE255 -> 0 | DE2: =入力シート!U257 -> 0 | DF2: =入力シート!AE257 -> 0 | DG2: =入力シート!U259 -> 0 | DH2: =入力シート!AE259 -> 0 | DI2: =入力シート!U261 -> 0 | DJ2: =入力シート!AE261 -> 0 | DK2: =入力シート!U263 -> 0 | DL2: =入力シート!AE263 -> 0 | DM2: =入力シート!U265 -> 0 | DN2: =入力シート!AE265 -> 0 | DO2: =入力シート!U267 -> 0 | DP2: =入力シート!AE267 -> 0 | DQ2: =入力シート!U269 -> 0 | DR2: =入力シート!AE269 -> 0 | DS2: =入力シート!U271 -> 0 | DT2: =入力シート!AE271 -> 0 | DU2: =入力シート!U273 -> 0 | DV2: =入力シート!AE273 -> 0 | DW2: =入力シート!U275 -> 0 | DX2: =入力シート!AE275 -> 0 | DY2: =入力シート!U277 -> 0 | DZ2: =入力シート!AE277 -> 0 | EA2: =入力シート!U279 -> 0 | EB2: =入力シート!AE279 -> 0 | EC2: =入力シート!U281 -> 0 | ED2: =入力シート!AE281 -> 0 | EE2: =入力シート!U283 -> 0 | EF2: =入力シート!AE283 -> 0 | EG2: =入力シート!U285 -> 0 | EH2: =入力シート!AE285 -> 0 | EI2: =入力シート!U287 -> 0 | EJ2: =入力シート!AE287 -> 0 | EK2: =入力シート!U289 -> 0 | EL2: =入力シート!AE289 -> 0 | EM2: =入力シート!U291 -> 0 | EN2: =入力シート!AE291 -> 0 | EO2: =入力シート!U293 -> 0 | EP2: =入力シート!AE293 -> 0 | EQ2: =入力シート!U295 -> 0 | ER2: =入力シート!AE295 -> 0 | ES2: =入力シート!U297 -> 0 | ET2: =入力シート!AE297 -> 0 | EU2: =入力シート!U299 -> 0 | EV2: =入力シート!AE299 -> 0 | EW2: =入力シート!U301 -> 0 | EX2: =入力シート!AE301 -> 0 | EY2: =入力シート!U303 -> 0 | EZ2: =入力シート!AE303 -> 0 | FA2: =入力シート!U305 -> 0 | FB2: =入力シート!AE305 -> 0 | FC2: =入力シート!I312 -> 0 | FD2: =入力シート!U312 -> 0 | FE2: =入力シート!AE312 -> 0 | FF2: =入力シート!I314 -> 0 | FG2: =入力シート!U314 -> 0 | FH2: =入力シート!AE314 -> 0 | FI2: =入力シート!I316 -> 0 | FJ2: =入力シート!U316 -> 0 | FK2: =入力シート!AE316 -> 0 | FL2: =入力シート!I318 -> 0 | FM2: =入力シート!U318 -> 0 | FN2: =入力シート!AE318 -> 0 | FO2: =入力シート!U320 -> 0 | FP2: =入力シート!AE320 -> 0 | FQ2: =入力シート!U322 -> 0 | FR2: =入力シート!AE322 -> 0 | FS2: =入力シート!F327 -> 0
O58: =入力内容集計表!AB -> #NAME?

Sheet 申請種目表
A1: 番号 | B1: 申 請 種 目
A2: 1 | B2: 測量一般
A3: 2 | B3: 航空測量
A4: 3 | B4: 建築設計監理（建築一般）
A5: 4 | B5: 設備設計
A6: 5 | B6: 地質調査
A7: 6 | B7: 補償（補償関連）
A8: 7 | B8: 建設コンサルタント

Sheet 業態カード
B2: ① 入札参加登録状況 | K2: 名取市独自様式 １－２ | AA2: （市記載欄） 承認№ | AC2: =入力内容集計表!AB2 -> 0
K3: 令和９・１０年度 建設ｺﾝｻﾙﾀﾝﾄ等業務 業態カード
C5: =入力内容集計表!B2 -> 0 | E5: 承認番号 | H5: =入力内容集計表!A2 -> 0 | J5: ） | AI5: 1
B6: ② 申請者（本店) | C6: フリガナ | E6: =入力内容集計表!C2 -> 0 | S6: ⑥ 受注高の状況（直前２か年平均完成業務高） ※単位：千円
C8: 商号又は 名 称 | E8: =入力内容集計表!D2 -> 0 | S8: 種目 番号 | T8: 業務の種目 | Y8: 金 額 Ａ （会社全体分） | AD8: 金 額 Ｂ （受任機関分）
S10: =入力内容集計表!BB2 -> 0 | T10: =入力内容集計表!BC2 | Y10: =入力内容集計表!BD2 -> 0 | AC10: 千円 | AD10: =入力内容集計表!BE2 -> 0 | AH10: 千円
C11: 本 店 所在地等 | E11: 〒 | F11: =入力内容集計表!E2 -> - | L11: ﾒｰﾙ | M11: =入力内容集計表!I2 -> 0
E12: =入力内容集計表!F2 | S12: =入力内容集計表!BF2 -> 0 | T12: =入力内容集計表!BG2 | Y12: =入力内容集計表!BH2 -> 0 | AC12: 千円 | AD12: =入力内容集計表!BI2 -> 0 | AH12: 千円
S14: =入力内容集計表!BJ2 -> 0 | T14: =入力内容集計表!BK2 | Y14: =入力内容集計表!BL2 -> 0 | AC14: 千円 | AD14: =入力内容集計表!BM2 -> 0 | AH14: 千円
E15: TEL. | G15: =入力内容集計表!G2 -> 0 | L15: FAX. | N15: =入力内容集計表!H2 -> 0
C16: 代表者の 職・氏名 | E16: 職名 | K16: ﾌﾘｶﾞﾅ | L16: =入力内容集計表!K2 -> 0 | S16: =入力内容集計表!BN2 -> 0 | T16: =入力内容集計表!BO2 | Y16: =入力内容集計表!BP2 -> 0 | AC16: 千円 | AD16: =入力内容集計表!BQ2 -> 0 | AH16: 千円
F17: =入力内容集計表!J2 -> 0 | K17: 氏名 | L17: =入力内容集計表!L2 -> 0
S18: =入力内容集計表!BR2 -> 0 | T18: =入力内容集計表!BS2 | Y18: =入力内容集計表!BT2 -> 0 | AC18: 千円 | AD18: =入力内容集計表!BU2 -> 0 | AH18: 千円
B19: ③受任者（支店など) | C19: 受任機関 名 称 | E19: =入力内容集計表!M2
S20: その他の種目の計 | Y20: =入力内容集計表!BV2 -> 0 | AC20: 千円 | AD20: =入力内容集計表!BW2 -> 0 | AH20: 千円
C22: 受任機関 所在地等 | E22: 〒 | F22: =入力内容集計表!N2 -> - | L22: ﾒｰﾙ | M22: =入力内容集計表!R2 -> 0 | S22: 総 計 | Y22: =入力内容集計表!BX2 -> 0 | AC22: 千円 | AD22: =入力内容集計表!BY2 -> 0 | AH22: 千円
E23: =入力内容集計表!O2
S24: ⑦ 資格審査申請種目（「申請種目表」より希望順に選択記入のこと。）
E26: TEL. | G26: =入力内容集計表!P2 -> 0 | L26: FAX. | N26: =入力内容集計表!Q2 -> 0 | S26: 種目番号 | U26: 種目名 | Z26: 施工できる分野・得意とする分野
C27: 受任者の 職・氏名 | E27: 職名 | K27: ﾌﾘｶﾞﾅ | L27: =入力内容集計表!T2 -> 0
F28: =入力内容集計表!S2 -> 0 | K28: 氏名 | L28: =入力内容集計表!U2 -> 0 | S28: =入力内容集計表!BZ2 -> 0 | U28: =入力内容集計表!CA2 | Z28: =入力内容集計表!CB2 -> 0
B30: ④ 希望連絡先 | E30: TEL. | G30: =入力内容集計表!V2 -> 0 | L30: FAX. | N30: =入力内容集計表!W2 -> 0 | S30: =入力内容集計表!CC2 -> 0 | U30: =入力内容集計表!CD2 | Z30: =入力内容集計表!CE2 -> 0
B32: ⑤ 登録を受けている事業の状況 | S32: =入力内容集計表!CF2 -> 0 | U32: =入力内容集計表!CG2 | Z32: =入力内容集計表!CH2 -> 0
B34: 登録事業名 | I34: 許可登録番号 | M34: 登録年月日 | S34: =入力内容集計表!CI2 -> 0 | U34: =入力内容集計表!CJ2 | Z34: =入力内容集計表!CK2 -> 0
B35: 測量業者 | I35: =入力内容集計表!AD2 -> 0 | M35: =入力内容集計表!AC2 -> 0
B36: （ | C36: =入力内容集計表!AE2 -> 〇 | D36: 級）建築士事務所 | I36: =入力内容集計表!AG2 -> 0 | M36: =入力内容集計表!AF2 -> 0 | S36: =入力内容集計表!CL2 -> 0 | U36: =入力内容集計表!CM2 | Z36: =入力内容集計表!CN2 -> 0
B37: 地質調査業者 | I37: =入力内容集計表!AI2 -> 0 | M37: =入力内容集計表!AH2 -> 0
B38: 補償コンサルタント(※部門名右へ) | I38: =入力内容集計表!AK2 -> 0 | M38: =入力内容集計表!AJ2 -> 0 | S38: ※ 建設・土木、補償コンサルタントの登録部門名
B39: 不動産鑑定業者 | I39: =入力内容集計表!AM2 -> 0 | M39: =入力内容集計表!AL2 -> 0 | S39: 1 | T39: =入力内容集計表!AR2 -> 0 | AA39: 6 | AB39: =入力内容集計表!AW2 -> 0
B40: 土地家屋調査士 | I40: =入力内容集計表!AO2 -> 0 | M40: =入力内容集計表!AN2 -> 0 | S40: 2 | T40: =入力内容集計表!AS2 -> 0 | AA40: 7 | AB40: =入力内容集計表!AX2 -> 0
B41: 建設・土木ｺﾝｻﾙﾀﾝﾄ(※部門名右へ) | I41: =入力内容集計表!AQ2 -> 0 | M41: =入力内容集計表!AP2 -> 0 | S41: 3 | T41: =入力内容集計表!AT2 -> 0 | AA41: 8 | AB41: =入力内容集計表!AY2 -> 0
S42: 4 | T42: =入力内容集計表!AU2 -> 0 | AA42: 9 | AB42: =入力内容集計表!AZ2 -> 0
S43: 5 | T43: =入力内容集計表!AV2 -> 0 | AA43: 10 | AB43: =入力内容集計表!BA2 -> 0
B44: ⑧ 社 員 数 | I44: 全 体 | L44: 当該支店等 | O44: ⑩ 官公庁別２年間平均完成業務高（県内のみ） ※税別・単位：千円
B45: (A) 技術社員 | I45: =入力内容集計表!CO2 -> 0 | K45: 人 | L45: =入力内容集計表!CP2 -> 0 | N45: 人 | O45: 順位 | P45: 官 公 庁 名 | Y45: 年間平均完成業務高（千円）
B46: (B) 事務員他 | I46: =入力内容集計表!CQ2 -> 0 | K46: 人 | L46: =入力内容集計表!CR2 -> 0 | N46: 人 | O46: 1 | P46: =入力内容集計表!FC2 -> 0 | Y46: =入力内容集計表!FD2+入力内容集計表!FE2 -> 0 | AH46: 千円
B47: 社員数計(A)＋(B) | I47: =入力内容集計表!CS2 -> 0 | K47: 人 | L47: =入力内容集計表!CT2 -> 0 | N47: 人 | O47: 2 | P47: =入力内容集計表!FF2 -> 0 | Y47: =入力内容集計表!FG2+入力内容集計表!FH2 -> 0 | AH47: 千円
B48: ⑨ 資 格 名 | I48: 全 体 | L48: 当該支店等 | O48: 3 | P48: =入力内容集計表!FI2 -> 0 | Y48: =入力内容集計表!FJ2+入力内容集計表!FK2 -> 0 | AH48: 千円
B49: 一級建築士 | I49: =入力内容集計表!CU2 -> 0 | K49: 人 | L49: =入力内容集計表!CV2 -> 0 | N49: 人 | O49: 4 | P49: =入力内容集計表!FL2 -> 0 | Y49: =入力内容集計表!FM2+入力内容集計表!FN2 -> 0 | AH49: 千円
B50: 二級建築士 | I50: =入力内容集計表!CW2 -> 0 | K50: 人 | L50: =入力内容集計表!CX2 -> 0 | N50: 人 | O50: その他官公庁計 | Y50: =入力内容集計表!FO2+入力内容集計表!FP2 -> 0 | AH50: 千円
B51: 建築設備資格者 | I51: =入力内容集計表!CY2 -> 0 | K51: 人 | L51: =入力内容集計表!CZ2 -> 0 | N51: 人 | O51: 合 計 | Y51: =入力内容集計表!FQ2+入力内容集計表!FR2 -> 0 | AH51: 千円
B52: 建築積算資格者 | I52: =入力内容集計表!DA2 -> 0 | K52: 人 | L52: =入力内容集計表!DB2 -> 0 | N52: 人 | O52: ⑪ 営業年数 | S52: ⑫ 資本金
B53: 一級土木施工管理技士 | I53: =入力内容集計表!DC2 -> 0 | K53: 人 | L53: =入力内容集計表!DD2 -> 0 | N53: 人 | O53: =入力内容集計表!X2 -> 0 | R53: 年 | S53: =入力内容集計表!Y2 -> 0 | X53: 千円
B54: 二級土木施工管理技士 | I54: =入力内容集計表!DE2 -> 0 | K54: 人 | L54: =入力内容集計表!DF2 -> 0 | N54: 人 | O54: ⑭ 特別徴収実施状況 | U54: 名取市内に居住する従業員 | AB54: 従業員「有」の場合、特別徴収
B55: 測量士 | I55: =入力内容集計表!DG2 -> 0 | K55: 人 | L55: =入力内容集計表!DH2 -> 0 | N55: 人 | U55: =入力内容集計表!Z2 -> 0 | AB55: =入力内容集計表!AA2 -> 0
B56: 測量士補 | I56: =入力内容集計表!DI2 -> 0 | K56: 人 | L56: =入力内容集計表!DJ2 -> 0 | N56: 人 | AI56: FALSE | AJ56: TRUE | AK56: FALSE | AL56: FALSE
B57: 環境計量士 | I57: =入力内容集計表!DK2 -> 0 | K57: 人 | L57: =入力内容集計表!DL2 -> 0 | N57: 人 | O57: ⑮ 会社の特色・ＰＲ等
B58: 不動産鑑定士 | I58: =入力内容集計表!DM2 -> 0 | K58: 人 | L58: =入力内容集計表!DN2 -> 0 | N58: 人 | O58: =入力内容集計表!FS2 -> 0
B59: 不動産鑑定士補 | I59: =入力内容集計表!DO2 -> 0 | K59: 人 | L59: =入力内容集計表!DP2 -> 0 | N59: 人
B60: 土地家屋調査士 | I60: =入力内容集計表!DQ2 -> 0 | K60: 人 | L60: =入力内容集計表!DR2 -> 0 | N60: 人
B61: 司法書士 | I61: =入力内容集計表!DS2 -> 0 | K61: 人 | L61: =入力内容集計表!DT2 -> 0 | N61: 人
B62: 技術士（建設部門） | I62: =入力内容集計表!DU2 -> 0 | K62: 人 | L62: =入力内容集計表!DV2 -> 0 | N62: 人
B63: 技術士（農業部門） | I63: =入力内容集計表!DW2 -> 0 | K63: 人 | L63: =入力内容集計表!DX2 -> 0 | N63: 人
B64: 技術士（林業部門） | I64: =入力内容集計表!DY2 -> 0 | K64: 人 | L64: =入力内容集計表!DZ2 -> 0 | N64: 人
B65: 技術士（水産部門） | I65: =入力内容集計表!EA2 -> 0 | K65: 人 | L65: =入力内容集計表!EB2 -> 0 | N65: 人
B66: 技術士（水道部門） | I66: =入力内容集計表!EC2 -> 0 | K66: 人 | L66: =入力内容集計表!ED2 -> 0 | N66: 人
B67: 技術士（衛生工学部門） | I67: =入力内容集計表!EE2 -> 0 | K67: 人 | L67: =入力内容集計表!EF2 -> 0 | N67: 人
B68: 技術士（電気・電子部門） | I68: =入力内容集計表!EG2 -> 0 | K68: 人 | L68: =入力内容集計表!EH2 -> 0 | N68: 人
B69: 技術士（機械部門） | I69: =入力内容集計表!EI2 -> 0 | K69: 人 | L69: =入力内容集計表!EJ2 -> 0 | N69: 人
B70: 技術士（情報工学部門） | I70: =入力内容集計表!EK2 -> 0 | K70: 人 | L70: =入力内容集計表!EL2 -> 0 | N70: 人
B71: 技術士（地質調査） | I71: =入力内容集計表!EM2 -> 0 | K71: 人 | L71: =入力内容集計表!EN2 -> 0 | N71: 人
B72: 第一種電気主任技術者 | I72: =入力内容集計表!EO2 -> 0 | K72: 人 | L72: =入力内容集計表!EP2 -> 0 | N72: 人
B73: 第一種伝送交換主任技術者 | I73: =入力内容集計表!EQ2 -> 0 | K73: 人 | L73: =入力内容集計表!ER2 -> 0 | N73: 人
B74: 線路主任技術者 | I74: =入力内容集計表!ES2 -> 0 | K74: 人 | L74: =入力内容集計表!ET2 -> 0 | N74: 人
B75: ＲＣＣＭ | I75: =入力内容集計表!EU2 -> 0 | K75: 人 | L75: =入力内容集計表!EV2 -> 0 | N75: 人
B76: 地質調査技士 | I76: =入力内容集計表!EW2 -> 0 | K76: 人 | L76: =入力内容集計表!EX2 -> 0 | N76: 人
B77: 補償業務管理士 | I77: =入力内容集計表!EY2 -> 0 | K77: 人 | L77: =入力内容集計表!EZ2 -> 0 | N77: 人
B78: 公共用地経験者 | I78: =入力内容集計表!FA2 -> 0 | K78: 人 | L78: =入力内容集計表!FB2 -> 0 | N78: 人
